{"text_format":"1","workbook":"xlsx","n_sheets":9,"sheets":["About Transfers","Transfer In","Transfer Out","Tie to Budget Construction","Import Data","Upload to Budget Construction","Upload","Pivot","Object Codes"],"not_rendered":{"charts":0,"images":0,"macros":1,"external_links":5,"defined_names":62,"comments":0,"pivot_tables":1},"unopened":[],"bounds":{"document_bytes":16777216,"sheet_cells":100000,"rows_first":2000,"rows_last":500,"rows_between":2000,"halvings":0,"cell_chars":16384,"cell_head_chars":4096},"cells_cut":0,"cells_raw":0,"read":"whole","date_system":"1900"}

{"sheet":"About Transfers","index":0,"n_rows":34,"n_cols":1,"rows_kept":34,"cut":false,"hidden":false,"merged":[]}
[]
[]
[]
[]
[]
[]
[]
[]
[]
[]
[]
[]
[]
[]
[]
[]
[]
[]
[]
[]
[]
[]
[]
[]
[]
[]
[]
[]
[]
[]
[]
["ALL transfers outside of the School/College/Unit must be included in this file and tie to Budget Construction"]
[]
["Contact your Budget Analyst or the Budget Office with any assistance needed in completing this workbook"]

{"sheet":"Transfer In","index":1,"n_rows":110,"n_cols":7,"rows_kept":110,"cut":false,"hidden":false,"merged":[[6,1,6,6],[7,1,7,6]]}
["UCONN FY18 Budget Submission Transfer Reconciliation"]
[]
[]
[null,"Org Name:"]
[null,"Org Code:"]
[]
[null,"FOR ENTRY"]
[null,"Transfers IN Only\nIn this section enter any transfers coming IN to your account.  "]
[null,"Account \n(The Account the Transfer is coming to)","Object Code\n (The Object code being used)","From Account\n(Enter the Account you are receiving the transfer from)","If Account # is unknown\nFrom Org\n(Enter the Org you are receiving the transfer from)","Amount\n(Enter the $ Amount of the Transfer)","Explanation of Transfer\n (Provide a brief explanation of the transfer you are receiving)"]
[1]
[{"$f":"+A10+1","v":2}]
[{"$f":"+A11+1","v":3}]
[4]
[5]
[6]
[7]
[8]
[9]
[10]
[11]
[12]
[13]
[14]
[15]
[16]
[17]
[18]
[19]
[20]
[21]
[22]
[23]
[24]
[25]
[26]
[27]
[28]
[29]
[30]
[31]
[32]
[33]
[34]
[35]
[36]
[37]
[38]
[39]
[40]
[41]
[42]
[43]
[44]
[45]
[46]
[47]
[48]
[49]
[50]
[51]
[52]
[53]
[54]
[55]
[56]
[57]
[58]
[59]
[60]
[61]
[62]
[63]
[64]
[65]
[66]
[{"$f":"+A75+1","v":67}]
[68]
[69]
[70]
[71]
[72]
[73]
[74]
[75]
[76]
[77]
[78]
[79]
[80]
[81]
[82]
[83]
[84]
[85]
[86]
[87]
[88]
[89]
[90]
[91]
[92]
[93]
[94]
[95]
[96]
[97]
[98]
[99]
[100]
["TO ADD MORE ROWS CONTACT THE BUDGET OFFICE"]

{"sheet":"Transfer Out","index":2,"n_rows":110,"n_cols":7,"rows_kept":110,"cut":false,"hidden":false,"merged":[[6,1,6,6],[7,1,7,6]]}
["UCONN FY18 Budget Submission Transfer Reconciliation"]
[]
[]
[null,"Org Name:"]
[null,"Org Code:"]
[]
[null,"FOR ENTRY"]
[null,"Transfers OUT Only\nIn this section enter any transfers coming OUT of your account.  "]
[null,"Account \n(The Account the Transfer is coming from)","Object Code\n (The Object code being used)","To Account\n(Enter the Account you are sending the transfer to)","If Account # is unknown\nTo Org\n(Enter the Org you are sending the transfer to)","Amount\n(Enter the $ Amount of the Transfer)","Explanation of Transfer\n (Provide a brief explanation of the transfer you are receiving)"]
[1]
[2]
[3]
[4]
[5]
[6]
[7]
[8]
[9]
[10]
[11]
[12]
[13]
[14]
[15]
[16]
[17]
[18]
[19]
[20]
[21]
[22]
[23]
[24]
[25]
[26]
[27]
[28]
[29]
[30]
[31]
[32]
[33]
[34]
[35]
[36]
[37]
[38]
[39]
[40]
[41]
[42]
[43]
[44]
[45]
[46]
[47]
[48]
[49]
[50]
[51]
[52]
[53]
[54]
[55]
[56]
[57]
[58]
[59]
[60]
[61]
[62]
[63]
[64]
[65]
[66]
[67]
[68]
[69]
[70]
[71]
[72]
[73]
[74]
[75]
[76]
[77]
[78]
[79]
[80]
[81]
[82]
[83]
[84]
[85]
[86]
[87]
[88]
[89]
[90]
[91]
[92]
[93]
[94]
[95]
[96]
[97]
[98]
[99]
[100]
["TO ADD MORE ROWS CONTACT THE BUDGET OFFICE"]

{"sheet":"Tie to Budget Construction","index":3,"n_rows":19,"n_cols":4,"rows_kept":19,"cut":false,"hidden":false,"merged":[[0,1,0,3],[1,1,1,3],[2,1,2,3],[4,1,4,3],[13,1,13,3]]}
[null,"Budget Construction Reconciliation Tab"]
[null,"This Tab is NOT for Entry "]
[null,"Transfers OUTSIDE of Unit Only"]
[]
[null,"Transfers IN Only - Total UNIT"]
[]
[null,"Object Code","Object Code Name","Amount"]
[null,3201,"Transfer In (Outside Unit)   ",{"$f":"+'Object Codes'!E28","v":0}]
[null,3207,"2Ledger Perm Transfer-In (Outside Unit)   ",{"$f":"+'Object Codes'!E29","v":0}]
[null,3209,"2Ledger One-Time Trans In (Outside Unit)",{"$f":"+'Object Codes'!E30","v":0}]
[null,3210,"Interfund Transfer In Mandatory",{"$f":"+'Object Codes'!E31","v":0}]
[]
[]
[null,"Transfers OUT Only - Total UNIT"]
[]
[null,"Object Code","Object Code Name","Amount"]
[null,{"$f":"+B8+100","v":3301},"Transfer Out (Outside Unit)   ",{"$f":"+'Object Codes'!E35","v":0}]
[null,{"$f":"+B9+100","v":3307},"2Ledger Perm Transfer-Out (Outside Unit)   ",{"$f":"+'Object Codes'!E36","v":0}]
[null,{"$f":"+B10+100","v":3309},"2Ledger One-Time Trans Out (Outside Unit)",{"$f":"+'Object Codes'!E37","v":0}]

{"sheet":"Import Data","index":4,"n_rows":202,"n_cols":6,"rows_kept":202,"cut":false,"hidden":true,"merged":[]}
[]
["Type","Chart","Row","Account \n(The Account the Transfer is coming to)","Object Code\n (The Object code being used)","Amount\n(Enter the $ Amount of the Transfer)"]
["IN","UC",{"$f":"+'[4]Transfer IN'!A10","v":1},{"$f":"IF('Transfer In'!B10=\"\",\"\",+'Transfer In'!B10)","v":""},{"$f":"LEFT('Transfer In'!C10,4)","v":""},{"$f":"IF('Transfer In'!F10=\"\",\"\",+'Transfer In'!F10)","v":""}]
["IN","UC",{"$f":"+'[4]Transfer IN'!A11","v":2},{"$f":"IF('Transfer In'!B11=\"\",\"\",+'Transfer In'!B11)","v":""},{"$f":"LEFT('Transfer In'!C11,4)","v":""},{"$f":"IF('Transfer In'!F11=\"\",\"\",+'Transfer In'!F11)","v":""}]
["IN","UC",{"$f":"+'[4]Transfer IN'!A12","v":3},{"$f":"IF('Transfer In'!B12=\"\",\"\",+'Transfer In'!B12)","v":""},{"$f":"LEFT('Transfer In'!C12,4)","v":""},{"$f":"IF('Transfer In'!F12=\"\",\"\",+'Transfer In'!F12)","v":""}]
["IN","UC",{"$f":"+'[4]Transfer IN'!A13","v":4},{"$f":"IF('Transfer In'!B13=\"\",\"\",+'Transfer In'!B13)","v":""},{"$f":"LEFT('Transfer In'!C13,4)","v":""},{"$f":"IF('Transfer In'!F13=\"\",\"\",+'Transfer In'!F13)","v":""}]
["IN","UC",{"$f":"+'[4]Transfer IN'!A14","v":5},{"$f":"IF('Transfer In'!B14=\"\",\"\",+'Transfer In'!B14)","v":""},{"$f":"LEFT('Transfer In'!C14,4)","v":""},{"$f":"IF('Transfer In'!F14=\"\",\"\",+'Transfer In'!F14)","v":""}]
["IN","UC",{"$f":"+'[4]Transfer IN'!A15","v":6},{"$f":"IF('Transfer In'!B15=\"\",\"\",+'Transfer In'!B15)","v":""},{"$f":"LEFT('Transfer In'!C15,4)","v":""},{"$f":"IF('Transfer In'!F15=\"\",\"\",+'Transfer In'!F15)","v":""}]
["IN","UC",{"$f":"+'[4]Transfer IN'!A16","v":7},{"$f":"IF('Transfer In'!B16=\"\",\"\",+'Transfer In'!B16)","v":""},{"$f":"LEFT('Transfer In'!C16,4)","v":""},{"$f":"IF('Transfer In'!F16=\"\",\"\",+'Transfer In'!F16)","v":""}]
["IN","UC",{"$f":"+'[4]Transfer IN'!A17","v":8},{"$f":"IF('Transfer In'!B17=\"\",\"\",+'Transfer In'!B17)","v":""},{"$f":"LEFT('Transfer In'!C17,4)","v":""},{"$f":"IF('Transfer In'!F17=\"\",\"\",+'Transfer In'!F17)","v":""}]
["IN","UC",{"$f":"+'[4]Transfer IN'!A18","v":9},{"$f":"IF('Transfer In'!B18=\"\",\"\",+'Transfer In'!B18)","v":""},{"$f":"LEFT('Transfer In'!C18,4)","v":""},{"$f":"IF('Transfer In'!F18=\"\",\"\",+'Transfer In'!F18)","v":""}]
["IN","UC",{"$f":"+'[4]Transfer IN'!A19","v":10},{"$f":"IF('Transfer In'!B19=\"\",\"\",+'Transfer In'!B19)","v":""},{"$f":"LEFT('Transfer In'!C19,4)","v":""},{"$f":"IF('Transfer In'!F19=\"\",\"\",+'Transfer In'!F19)","v":""}]
["IN","UC",{"$f":"+'[4]Transfer IN'!A20","v":11},{"$f":"IF('Transfer In'!B20=\"\",\"\",+'Transfer In'!B20)","v":""},{"$f":"LEFT('Transfer In'!C20,4)","v":""},{"$f":"IF('Transfer In'!F20=\"\",\"\",+'Transfer In'!F20)","v":""}]
["IN","UC",{"$f":"+'[4]Transfer IN'!A21","v":12},{"$f":"IF('Transfer In'!B21=\"\",\"\",+'Transfer In'!B21)","v":""},{"$f":"LEFT('Transfer In'!C21,4)","v":""},{"$f":"IF('Transfer In'!F21=\"\",\"\",+'Transfer In'!F21)","v":""}]
["IN","UC",{"$f":"+'[4]Transfer IN'!A22","v":13},{"$f":"IF('Transfer In'!B22=\"\",\"\",+'Transfer In'!B22)","v":""},{"$f":"LEFT('Transfer In'!C22,4)","v":""},{"$f":"IF('Transfer In'!F22=\"\",\"\",+'Transfer In'!F22)","v":""}]
["IN","UC",{"$f":"+'[4]Transfer IN'!A23","v":14},{"$f":"IF('Transfer In'!B23=\"\",\"\",+'Transfer In'!B23)","v":""},{"$f":"LEFT('Transfer In'!C23,4)","v":""},{"$f":"IF('Transfer In'!F23=\"\",\"\",+'Transfer In'!F23)","v":""}]
["IN","UC",{"$f":"+'[4]Transfer IN'!A24","v":15},{"$f":"IF('Transfer In'!B24=\"\",\"\",+'Transfer In'!B24)","v":""},{"$f":"LEFT('Transfer In'!C24,4)","v":""},{"$f":"IF('Transfer In'!F24=\"\",\"\",+'Transfer In'!F24)","v":""}]
["IN","UC",{"$f":"+'[4]Transfer IN'!A25","v":16},{"$f":"IF('Transfer In'!B25=\"\",\"\",+'Transfer In'!B25)","v":""},{"$f":"LEFT('Transfer In'!C25,4)","v":""},{"$f":"IF('Transfer In'!F25=\"\",\"\",+'Transfer In'!F25)","v":""}]
["IN","UC",{"$f":"+'[4]Transfer IN'!A26","v":17},{"$f":"IF('Transfer In'!B26=\"\",\"\",+'Transfer In'!B26)","v":""},{"$f":"LEFT('Transfer In'!C26,4)","v":""},{"$f":"IF('Transfer In'!F26=\"\",\"\",+'Transfer In'!F26)","v":""}]
["IN","UC",{"$f":"+'[4]Transfer IN'!A27","v":18},{"$f":"IF('Transfer In'!B27=\"\",\"\",+'Transfer In'!B27)","v":""},{"$f":"LEFT('Transfer In'!C27,4)","v":""},{"$f":"IF('Transfer In'!F27=\"\",\"\",+'Transfer In'!F27)","v":""}]
["IN","UC",{"$f":"+'[4]Transfer IN'!A28","v":19},{"$f":"IF('Transfer In'!B28=\"\",\"\",+'Transfer In'!B28)","v":""},{"$f":"LEFT('Transfer In'!C28,4)","v":""},{"$f":"IF('Transfer In'!F28=\"\",\"\",+'Transfer In'!F28)","v":""}]
["IN","UC",{"$f":"+'[4]Transfer IN'!A29","v":20},{"$f":"IF('Transfer In'!B29=\"\",\"\",+'Transfer In'!B29)","v":""},{"$f":"LEFT('Transfer In'!C29,4)","v":""},{"$f":"IF('Transfer In'!F29=\"\",\"\",+'Transfer In'!F29)","v":""}]
["IN","UC",{"$f":"+'[4]Transfer IN'!A30","v":21},{"$f":"IF('Transfer In'!B30=\"\",\"\",+'Transfer In'!B30)","v":""},{"$f":"LEFT('Transfer In'!C30,4)","v":""},{"$f":"IF('Transfer In'!F30=\"\",\"\",+'Transfer In'!F30)","v":""}]
["IN","UC",{"$f":"+'[4]Transfer IN'!A31","v":22},{"$f":"IF('Transfer In'!B31=\"\",\"\",+'Transfer In'!B31)","v":""},{"$f":"LEFT('Transfer In'!C31,4)","v":""},{"$f":"IF('Transfer In'!F31=\"\",\"\",+'Transfer In'!F31)","v":""}]
["IN","UC",{"$f":"+'[4]Transfer IN'!A32","v":23},{"$f":"IF('Transfer In'!B32=\"\",\"\",+'Transfer In'!B32)","v":""},{"$f":"LEFT('Transfer In'!C32,4)","v":""},{"$f":"IF('Transfer In'!F32=\"\",\"\",+'Transfer In'!F32)","v":""}]
["IN","UC",{"$f":"+'[4]Transfer IN'!A33","v":24},{"$f":"IF('Transfer In'!B33=\"\",\"\",+'Transfer In'!B33)","v":""},{"$f":"LEFT('Transfer In'!C33,4)","v":""},{"$f":"IF('Transfer In'!F33=\"\",\"\",+'Transfer In'!F33)","v":""}]
["IN","UC",{"$f":"+'[4]Transfer IN'!A34","v":25},{"$f":"IF('Transfer In'!B34=\"\",\"\",+'Transfer In'!B34)","v":""},{"$f":"LEFT('Transfer In'!C34,4)","v":""},{"$f":"IF('Transfer In'!F34=\"\",\"\",+'Transfer In'!F34)","v":""}]
["IN","UC",{"$f":"+'[4]Transfer IN'!A35","v":26},{"$f":"IF('Transfer In'!B35=\"\",\"\",+'Transfer In'!B35)","v":""},{"$f":"LEFT('Transfer In'!C35,4)","v":""},{"$f":"IF('Transfer In'!F35=\"\",\"\",+'Transfer In'!F35)","v":""}]
["IN","UC",{"$f":"+'[4]Transfer IN'!A36","v":27},{"$f":"IF('Transfer In'!B36=\"\",\"\",+'Transfer In'!B36)","v":""},{"$f":"LEFT('Transfer In'!C36,4)","v":""},{"$f":"IF('Transfer In'!F36=\"\",\"\",+'Transfer In'!F36)","v":""}]
["IN","UC",{"$f":"+'[4]Transfer IN'!A37","v":28},{"$f":"IF('Transfer In'!B37=\"\",\"\",+'Transfer In'!B37)","v":""},{"$f":"LEFT('Transfer In'!C37,4)","v":""},{"$f":"IF('Transfer In'!F37=\"\",\"\",+'Transfer In'!F37)","v":""}]
["IN","UC",{"$f":"+'[4]Transfer IN'!A38","v":29},{"$f":"IF('Transfer In'!B38=\"\",\"\",+'Transfer In'!B38)","v":""},{"$f":"LEFT('Transfer In'!C38,4)","v":""},{"$f":"IF('Transfer In'!F38=\"\",\"\",+'Transfer In'!F38)","v":""}]
["IN","UC",{"$f":"+'[4]Transfer IN'!A39","v":30},{"$f":"IF('Transfer In'!B39=\"\",\"\",+'Transfer In'!B39)","v":""},{"$f":"LEFT('Transfer In'!C39,4)","v":""},{"$f":"IF('Transfer In'!F39=\"\",\"\",+'Transfer In'!F39)","v":""}]
["IN","UC",{"$f":"+'[4]Transfer IN'!A40","v":31},{"$f":"IF('Transfer In'!B40=\"\",\"\",+'Transfer In'!B40)","v":""},{"$f":"LEFT('Transfer In'!C40,4)","v":""},{"$f":"IF('Transfer In'!F40=\"\",\"\",+'Transfer In'!F40)","v":""}]
["IN","UC",{"$f":"+'[4]Transfer IN'!A41","v":32},{"$f":"IF('Transfer In'!B41=\"\",\"\",+'Transfer In'!B41)","v":""},{"$f":"LEFT('Transfer In'!C41,4)","v":""},{"$f":"IF('Transfer In'!F41=\"\",\"\",+'Transfer In'!F41)","v":""}]
["IN","UC",{"$f":"+'[4]Transfer IN'!A42","v":33},{"$f":"IF('Transfer In'!B42=\"\",\"\",+'Transfer In'!B42)","v":""},{"$f":"LEFT('Transfer In'!C42,4)","v":""},{"$f":"IF('Transfer In'!F42=\"\",\"\",+'Transfer In'!F42)","v":""}]
["IN","UC",{"$f":"+'[4]Transfer IN'!A43","v":34},{"$f":"IF('Transfer In'!B43=\"\",\"\",+'Transfer In'!B43)","v":""},{"$f":"LEFT('Transfer In'!C43,4)","v":""},{"$f":"IF('Transfer In'!F43=\"\",\"\",+'Transfer In'!F43)","v":""}]
["IN","UC",{"$f":"+'[4]Transfer IN'!A44","v":35},{"$f":"IF('Transfer In'!B44=\"\",\"\",+'Transfer In'!B44)","v":""},{"$f":"LEFT('Transfer In'!C44,4)","v":""},{"$f":"IF('Transfer In'!F44=\"\",\"\",+'Transfer In'!F44)","v":""}]
["IN","UC",{"$f":"+'[4]Transfer IN'!A45","v":36},{"$f":"IF('Transfer In'!B45=\"\",\"\",+'Transfer In'!B45)","v":""},{"$f":"LEFT('Transfer In'!C45,4)","v":""},{"$f":"IF('Transfer In'!F45=\"\",\"\",+'Transfer In'!F45)","v":""}]
["IN","UC",{"$f":"+'[4]Transfer IN'!A46","v":37},{"$f":"IF('Transfer In'!B46=\"\",\"\",+'Transfer In'!B46)","v":""},{"$f":"LEFT('Transfer In'!C46,4)","v":""},{"$f":"IF('Transfer In'!F46=\"\",\"\",+'Transfer In'!F46)","v":""}]
["IN","UC",{"$f":"+'[4]Transfer IN'!A47","v":38},{"$f":"IF('Transfer In'!B47=\"\",\"\",+'Transfer In'!B47)","v":""},{"$f":"LEFT('Transfer In'!C47,4)","v":""},{"$f":"IF('Transfer In'!F47=\"\",\"\",+'Transfer In'!F47)","v":""}]
["IN","UC",{"$f":"+'[4]Transfer IN'!A48","v":39},{"$f":"IF('Transfer In'!B48=\"\",\"\",+'Transfer In'!B48)","v":""},{"$f":"LEFT('Transfer In'!C48,4)","v":""},{"$f":"IF('Transfer In'!F48=\"\",\"\",+'Transfer In'!F48)","v":""}]
["IN","UC",{"$f":"+'[4]Transfer IN'!A49","v":40},{"$f":"IF('Transfer In'!B49=\"\",\"\",+'Transfer In'!B49)","v":""},{"$f":"LEFT('Transfer In'!C49,4)","v":""},{"$f":"IF('Transfer In'!F49=\"\",\"\",+'Transfer In'!F49)","v":""}]
["IN","UC",{"$f":"+'[4]Transfer IN'!A50","v":41},{"$f":"IF('Transfer In'!B50=\"\",\"\",+'Transfer In'!B50)","v":""},{"$f":"LEFT('Transfer In'!C50,4)","v":""},{"$f":"IF('Transfer In'!F50=\"\",\"\",+'Transfer In'!F50)","v":""}]
["IN","UC",{"$f":"+'[4]Transfer IN'!A51","v":42},{"$f":"IF('Transfer In'!B51=\"\",\"\",+'Transfer In'!B51)","v":""},{"$f":"LEFT('Transfer In'!C51,4)","v":""},{"$f":"IF('Transfer In'!F51=\"\",\"\",+'Transfer In'!F51)","v":""}]
["IN","UC",{"$f":"+'[4]Transfer IN'!A52","v":43},{"$f":"IF('Transfer In'!B52=\"\",\"\",+'Transfer In'!B52)","v":""},{"$f":"LEFT('Transfer In'!C52,4)","v":""},{"$f":"IF('Transfer In'!F52=\"\",\"\",+'Transfer In'!F52)","v":""}]
["IN","UC",{"$f":"+'[4]Transfer IN'!A53","v":44},{"$f":"IF('Transfer In'!B53=\"\",\"\",+'Transfer In'!B53)","v":""},{"$f":"LEFT('Transfer In'!C53,4)","v":""},{"$f":"IF('Transfer In'!F53=\"\",\"\",+'Transfer In'!F53)","v":""}]
["IN","UC",{"$f":"+'[4]Transfer IN'!A54","v":45},{"$f":"IF('Transfer In'!B54=\"\",\"\",+'Transfer In'!B54)","v":""},{"$f":"LEFT('Transfer In'!C54,4)","v":""},{"$f":"IF('Transfer In'!F54=\"\",\"\",+'Transfer In'!F54)","v":""}]
["IN","UC",{"$f":"+'[4]Transfer IN'!A55","v":46},{"$f":"IF('Transfer In'!B55=\"\",\"\",+'Transfer In'!B55)","v":""},{"$f":"LEFT('Transfer In'!C55,4)","v":""},{"$f":"IF('Transfer In'!F55=\"\",\"\",+'Transfer In'!F55)","v":""}]
["IN","UC",{"$f":"+'[4]Transfer IN'!A56","v":47},{"$f":"IF('Transfer In'!B56=\"\",\"\",+'Transfer In'!B56)","v":""},{"$f":"LEFT('Transfer In'!C56,4)","v":""},{"$f":"IF('Transfer In'!F56=\"\",\"\",+'Transfer In'!F56)","v":""}]
["IN","UC",{"$f":"+'[4]Transfer IN'!A57","v":48},{"$f":"IF('Transfer In'!B57=\"\",\"\",+'Transfer In'!B57)","v":""},{"$f":"LEFT('Transfer In'!C57,4)","v":""},{"$f":"IF('Transfer In'!F57=\"\",\"\",+'Transfer In'!F57)","v":""}]
["IN","UC",{"$f":"+'[4]Transfer IN'!A58","v":49},{"$f":"IF('Transfer In'!B58=\"\",\"\",+'Transfer In'!B58)","v":""},{"$f":"LEFT('Transfer In'!C58,4)","v":""},{"$f":"IF('Transfer In'!F58=\"\",\"\",+'Transfer In'!F58)","v":""}]
["IN","UC",{"$f":"+'[4]Transfer IN'!A59","v":50},{"$f":"IF('Transfer In'!B59=\"\",\"\",+'Transfer In'!B59)","v":""},{"$f":"LEFT('Transfer In'!C59,4)","v":""},{"$f":"IF('Transfer In'!F59=\"\",\"\",+'Transfer In'!F59)","v":""}]
["IN","UC",{"$f":"+'[4]Transfer IN'!A60","v":51},{"$f":"IF('Transfer In'!B60=\"\",\"\",+'Transfer In'!B60)","v":""},{"$f":"LEFT('Transfer In'!C60,4)","v":""},{"$f":"IF('Transfer In'!F60=\"\",\"\",+'Transfer In'!F60)","v":""}]
["IN","UC",{"$f":"+'[4]Transfer IN'!A61","v":52},{"$f":"IF('Transfer In'!B61=\"\",\"\",+'Transfer In'!B61)","v":""},{"$f":"LEFT('Transfer In'!C61,4)","v":""},{"$f":"IF('Transfer In'!F61=\"\",\"\",+'Transfer In'!F61)","v":""}]
["IN","UC",{"$f":"+'[4]Transfer IN'!A62","v":53},{"$f":"IF('Transfer In'!B62=\"\",\"\",+'Transfer In'!B62)","v":""},{"$f":"LEFT('Transfer In'!C62,4)","v":""},{"$f":"IF('Transfer In'!F62=\"\",\"\",+'Transfer In'!F62)","v":""}]
["IN","UC",{"$f":"+'[4]Transfer IN'!A63","v":54},{"$f":"IF('Transfer In'!B63=\"\",\"\",+'Transfer In'!B63)","v":""},{"$f":"LEFT('Transfer In'!C63,4)","v":""},{"$f":"IF('Transfer In'!F63=\"\",\"\",+'Transfer In'!F63)","v":""}]
["IN","UC",{"$f":"+'[4]Transfer IN'!A64","v":55},{"$f":"IF('Transfer In'!B64=\"\",\"\",+'Transfer In'!B64)","v":""},{"$f":"LEFT('Transfer In'!C64,4)","v":""},{"$f":"IF('Transfer In'!F64=\"\",\"\",+'Transfer In'!F64)","v":""}]
["IN","UC",{"$f":"+'[4]Transfer IN'!A65","v":56},{"$f":"IF('Transfer In'!B65=\"\",\"\",+'Transfer In'!B65)","v":""},{"$f":"LEFT('Transfer In'!C65,4)","v":""},{"$f":"IF('Transfer In'!F65=\"\",\"\",+'Transfer In'!F65)","v":""}]
["IN","UC",{"$f":"+'[4]Transfer IN'!A66","v":57},{"$f":"IF('Transfer In'!B66=\"\",\"\",+'Transfer In'!B66)","v":""},{"$f":"LEFT('Transfer In'!C66,4)","v":""},{"$f":"IF('Transfer In'!F66=\"\",\"\",+'Transfer In'!F66)","v":""}]
["IN","UC",{"$f":"+'[4]Transfer IN'!A67","v":58},{"$f":"IF('Transfer In'!B67=\"\",\"\",+'Transfer In'!B67)","v":""},{"$f":"LEFT('Transfer In'!C67,4)","v":""},{"$f":"IF('Transfer In'!F67=\"\",\"\",+'Transfer In'!F67)","v":""}]
["IN","UC",{"$f":"+'[4]Transfer IN'!A68","v":59},{"$f":"IF('Transfer In'!B68=\"\",\"\",+'Transfer In'!B68)","v":""},{"$f":"LEFT('Transfer In'!C68,4)","v":""},{"$f":"IF('Transfer In'!F68=\"\",\"\",+'Transfer In'!F68)","v":""}]
["IN","UC",{"$f":"+'[4]Transfer IN'!A69","v":60},{"$f":"IF('Transfer In'!B69=\"\",\"\",+'Transfer In'!B69)","v":""},{"$f":"LEFT('Transfer In'!C69,4)","v":""},{"$f":"IF('Transfer In'!F69=\"\",\"\",+'Transfer In'!F69)","v":""}]
["IN","UC",{"$f":"+'[4]Transfer IN'!A70","v":61},{"$f":"IF('Transfer In'!B70=\"\",\"\",+'Transfer In'!B70)","v":""},{"$f":"LEFT('Transfer In'!C70,4)","v":""},{"$f":"IF('Transfer In'!F70=\"\",\"\",+'Transfer In'!F70)","v":""}]
["IN","UC",{"$f":"+'[4]Transfer IN'!A71","v":62},{"$f":"IF('Transfer In'!B71=\"\",\"\",+'Transfer In'!B71)","v":""},{"$f":"LEFT('Transfer In'!C71,4)","v":""},{"$f":"IF('Transfer In'!F71=\"\",\"\",+'Transfer In'!F71)","v":""}]
["IN","UC",{"$f":"+'[4]Transfer IN'!A72","v":63},{"$f":"IF('Transfer In'!B72=\"\",\"\",+'Transfer In'!B72)","v":""},{"$f":"LEFT('Transfer In'!C72,4)","v":""},{"$f":"IF('Transfer In'!F72=\"\",\"\",+'Transfer In'!F72)","v":""}]
["IN","UC",{"$f":"+'[4]Transfer IN'!A73","v":64},{"$f":"IF('Transfer In'!B73=\"\",\"\",+'Transfer In'!B73)","v":""},{"$f":"LEFT('Transfer In'!C73,4)","v":""},{"$f":"IF('Transfer In'!F73=\"\",\"\",+'Transfer In'!F73)","v":""}]
["IN","UC",{"$f":"+'[4]Transfer IN'!A74","v":65},{"$f":"IF('Transfer In'!B74=\"\",\"\",+'Transfer In'!B74)","v":""},{"$f":"LEFT('Transfer In'!C74,4)","v":""},{"$f":"IF('Transfer In'!F74=\"\",\"\",+'Transfer In'!F74)","v":""}]
["IN","UC",{"$f":"+'[4]Transfer IN'!A75","v":66},{"$f":"IF('Transfer In'!B75=\"\",\"\",+'Transfer In'!B75)","v":""},{"$f":"LEFT('Transfer In'!C75,4)","v":""},{"$f":"IF('Transfer In'!F75=\"\",\"\",+'Transfer In'!F75)","v":""}]
["IN","UC",{"$f":"+'[4]Transfer IN'!A76","v":67},{"$f":"IF('Transfer In'!B76=\"\",\"\",+'Transfer In'!B76)","v":""},{"$f":"LEFT('Transfer In'!C76,4)","v":""},{"$f":"IF('Transfer In'!F76=\"\",\"\",+'Transfer In'!F76)","v":""}]
["IN","UC",{"$f":"+'[4]Transfer IN'!A77","v":68},{"$f":"IF('Transfer In'!B77=\"\",\"\",+'Transfer In'!B77)","v":""},{"$f":"LEFT('Transfer In'!C77,4)","v":""},{"$f":"IF('Transfer In'!F77=\"\",\"\",+'Transfer In'!F77)","v":""}]
["IN","UC",{"$f":"+'[4]Transfer IN'!A78","v":69},{"$f":"IF('Transfer In'!B78=\"\",\"\",+'Transfer In'!B78)","v":""},{"$f":"LEFT('Transfer In'!C78,4)","v":""},{"$f":"IF('Transfer In'!F78=\"\",\"\",+'Transfer In'!F78)","v":""}]
["IN","UC",{"$f":"+'[4]Transfer IN'!A79","v":70},{"$f":"IF('Transfer In'!B79=\"\",\"\",+'Transfer In'!B79)","v":""},{"$f":"LEFT('Transfer In'!C79,4)","v":""},{"$f":"IF('Transfer In'!F79=\"\",\"\",+'Transfer In'!F79)","v":""}]
["IN","UC",{"$f":"+'[4]Transfer IN'!A80","v":71},{"$f":"IF('Transfer In'!B80=\"\",\"\",+'Transfer In'!B80)","v":""},{"$f":"LEFT('Transfer In'!C80,4)","v":""},{"$f":"IF('Transfer In'!F80=\"\",\"\",+'Transfer In'!F80)","v":""}]
["IN","UC",{"$f":"+'[4]Transfer IN'!A81","v":72},{"$f":"IF('Transfer In'!B81=\"\",\"\",+'Transfer In'!B81)","v":""},{"$f":"LEFT('Transfer In'!C81,4)","v":""},{"$f":"IF('Transfer In'!F81=\"\",\"\",+'Transfer In'!F81)","v":""}]
["IN","UC",{"$f":"+'[4]Transfer IN'!A82","v":73},{"$f":"IF('Transfer In'!B82=\"\",\"\",+'Transfer In'!B82)","v":""},{"$f":"LEFT('Transfer In'!C82,4)","v":""},{"$f":"IF('Transfer In'!F82=\"\",\"\",+'Transfer In'!F82)","v":""}]
["IN","UC",{"$f":"+'[4]Transfer IN'!A83","v":74},{"$f":"IF('Transfer In'!B83=\"\",\"\",+'Transfer In'!B83)","v":""},{"$f":"LEFT('Transfer In'!C83,4)","v":""},{"$f":"IF('Transfer In'!F83=\"\",\"\",+'Transfer In'!F83)","v":""}]
["IN","UC",{"$f":"+'[4]Transfer IN'!A84","v":75},{"$f":"IF('Transfer In'!B84=\"\",\"\",+'Transfer In'!B84)","v":""},{"$f":"LEFT('Transfer In'!C84,4)","v":""},{"$f":"IF('Transfer In'!F84=\"\",\"\",+'Transfer In'!F84)","v":""}]
["IN","UC",{"$f":"+'[4]Transfer IN'!A85","v":76},{"$f":"IF('Transfer In'!B85=\"\",\"\",+'Transfer In'!B85)","v":""},{"$f":"LEFT('Transfer In'!C85,4)","v":""},{"$f":"IF('Transfer In'!F85=\"\",\"\",+'Transfer In'!F85)","v":""}]
["IN","UC",{"$f":"+'[4]Transfer IN'!A86","v":77},{"$f":"IF('Transfer In'!B86=\"\",\"\",+'Transfer In'!B86)","v":""},{"$f":"LEFT('Transfer In'!C86,4)","v":""},{"$f":"IF('Transfer In'!F86=\"\",\"\",+'Transfer In'!F86)","v":""}]
["IN","UC",{"$f":"+'[4]Transfer IN'!A87","v":78},{"$f":"IF('Transfer In'!B87=\"\",\"\",+'Transfer In'!B87)","v":""},{"$f":"LEFT('Transfer In'!C87,4)","v":""},{"$f":"IF('Transfer In'!F87=\"\",\"\",+'Transfer In'!F87)","v":""}]
["IN","UC",{"$f":"+'[4]Transfer IN'!A88","v":79},{"$f":"IF('Transfer In'!B88=\"\",\"\",+'Transfer In'!B88)","v":""},{"$f":"LEFT('Transfer In'!C88,4)","v":""},{"$f":"IF('Transfer In'!F88=\"\",\"\",+'Transfer In'!F88)","v":""}]
["IN","UC",{"$f":"+'[4]Transfer IN'!A89","v":80},{"$f":"IF('Transfer In'!B89=\"\",\"\",+'Transfer In'!B89)","v":""},{"$f":"LEFT('Transfer In'!C89,4)","v":""},{"$f":"IF('Transfer In'!F89=\"\",\"\",+'Transfer In'!F89)","v":""}]
["IN","UC",{"$f":"+'[4]Transfer IN'!A90","v":81},{"$f":"IF('Transfer In'!B90=\"\",\"\",+'Transfer In'!B90)","v":""},{"$f":"LEFT('Transfer In'!C90,4)","v":""},{"$f":"IF('Transfer In'!F90=\"\",\"\",+'Transfer In'!F90)","v":""}]
["IN","UC",{"$f":"+'[4]Transfer IN'!A91","v":82},{"$f":"IF('Transfer In'!B91=\"\",\"\",+'Transfer In'!B91)","v":""},{"$f":"LEFT('Transfer In'!C91,4)","v":""},{"$f":"IF('Transfer In'!F91=\"\",\"\",+'Transfer In'!F91)","v":""}]
["IN","UC",{"$f":"+'[4]Transfer IN'!A92","v":83},{"$f":"IF('Transfer In'!B92=\"\",\"\",+'Transfer In'!B92)","v":""},{"$f":"LEFT('Transfer In'!C92,4)","v":""},{"$f":"IF('Transfer In'!F92=\"\",\"\",+'Transfer In'!F92)","v":""}]
["IN","UC",{"$f":"+'[4]Transfer IN'!A93","v":84},{"$f":"IF('Transfer In'!B93=\"\",\"\",+'Transfer In'!B93)","v":""},{"$f":"LEFT('Transfer In'!C93,4)","v":""},{"$f":"IF('Transfer In'!F93=\"\",\"\",+'Transfer In'!F93)","v":""}]
["IN","UC",{"$f":"+'[4]Transfer IN'!A94","v":85},{"$f":"IF('Transfer In'!B94=\"\",\"\",+'Transfer In'!B94)","v":""},{"$f":"LEFT('Transfer In'!C94,4)","v":""},{"$f":"IF('Transfer In'!F94=\"\",\"\",+'Transfer In'!F94)","v":""}]
["IN","UC",{"$f":"+'[4]Transfer IN'!A95","v":86},{"$f":"IF('Transfer In'!B95=\"\",\"\",+'Transfer In'!B95)","v":""},{"$f":"LEFT('Transfer In'!C95,4)","v":""},{"$f":"IF('Transfer In'!F95=\"\",\"\",+'Transfer In'!F95)","v":""}]
["IN","UC",{"$f":"+'[4]Transfer IN'!A96","v":87},{"$f":"IF('Transfer In'!B96=\"\",\"\",+'Transfer In'!B96)","v":""},{"$f":"LEFT('Transfer In'!C96,4)","v":""},{"$f":"IF('Transfer In'!F96=\"\",\"\",+'Transfer In'!F96)","v":""}]
["IN","UC",{"$f":"+'[4]Transfer IN'!A97","v":88},{"$f":"IF('Transfer In'!B97=\"\",\"\",+'Transfer In'!B97)","v":""},{"$f":"LEFT('Transfer In'!C97,4)","v":""},{"$f":"IF('Transfer In'!F97=\"\",\"\",+'Transfer In'!F97)","v":""}]
["IN","UC",{"$f":"+'[4]Transfer IN'!A98","v":89},{"$f":"IF('Transfer In'!B98=\"\",\"\",+'Transfer In'!B98)","v":""},{"$f":"LEFT('Transfer In'!C98,4)","v":""},{"$f":"IF('Transfer In'!F98=\"\",\"\",+'Transfer In'!F98)","v":""}]
["IN","UC",{"$f":"+'[4]Transfer IN'!A99","v":90},{"$f":"IF('Transfer In'!B99=\"\",\"\",+'Transfer In'!B99)","v":""},{"$f":"LEFT('Transfer In'!C99,4)","v":""},{"$f":"IF('Transfer In'!F99=\"\",\"\",+'Transfer In'!F99)","v":""}]
["IN","UC",{"$f":"+'[4]Transfer IN'!A100","v":91},{"$f":"IF('Transfer In'!B100=\"\",\"\",+'Transfer In'!B100)","v":""},{"$f":"LEFT('Transfer In'!C100,4)","v":""},{"$f":"IF('Transfer In'!F100=\"\",\"\",+'Transfer In'!F100)","v":""}]
["IN","UC",{"$f":"+'[4]Transfer IN'!A101","v":92},{"$f":"IF('Transfer In'!B101=\"\",\"\",+'Transfer In'!B101)","v":""},{"$f":"LEFT('Transfer In'!C101,4)","v":""},{"$f":"IF('Transfer In'!F101=\"\",\"\",+'Transfer In'!F101)","v":""}]
["IN","UC",{"$f":"+'[4]Transfer IN'!A102","v":93},{"$f":"IF('Transfer In'!B102=\"\",\"\",+'Transfer In'!B102)","v":""},{"$f":"LEFT('Transfer In'!C102,4)","v":""},{"$f":"IF('Transfer In'!F102=\"\",\"\",+'Transfer In'!F102)","v":""}]
["IN","UC",{"$f":"+'[4]Transfer IN'!A103","v":94},{"$f":"IF('Transfer In'!B103=\"\",\"\",+'Transfer In'!B103)","v":""},{"$f":"LEFT('Transfer In'!C103,4)","v":""},{"$f":"IF('Transfer In'!F103=\"\",\"\",+'Transfer In'!F103)","v":""}]
["IN","UC",{"$f":"+'[4]Transfer IN'!A104","v":95},{"$f":"IF('Transfer In'!B104=\"\",\"\",+'Transfer In'!B104)","v":""},{"$f":"LEFT('Transfer In'!C104,4)","v":""},{"$f":"IF('Transfer In'!F104=\"\",\"\",+'Transfer In'!F104)","v":""}]
["IN","UC",{"$f":"+'[4]Transfer IN'!A105","v":96},{"$f":"IF('Transfer In'!B105=\"\",\"\",+'Transfer In'!B105)","v":""},{"$f":"LEFT('Transfer In'!C105,4)","v":""},{"$f":"IF('Transfer In'!F105=\"\",\"\",+'Transfer In'!F105)","v":""}]
["IN","UC",{"$f":"+'[4]Transfer IN'!A106","v":97},{"$f":"IF('Transfer In'!B106=\"\",\"\",+'Transfer In'!B106)","v":""},{"$f":"LEFT('Transfer In'!C106,4)","v":""},{"$f":"IF('Transfer In'!F106=\"\",\"\",+'Transfer In'!F106)","v":""}]
["IN","UC",{"$f":"+'[4]Transfer IN'!A107","v":98},{"$f":"IF('Transfer In'!B107=\"\",\"\",+'Transfer In'!B107)","v":""},{"$f":"LEFT('Transfer In'!C107,4)","v":""},{"$f":"IF('Transfer In'!F107=\"\",\"\",+'Transfer In'!F107)","v":""}]
["IN","UC",{"$f":"+'[4]Transfer IN'!A108","v":99},{"$f":"IF('Transfer In'!B108=\"\",\"\",+'Transfer In'!B108)","v":""},{"$f":"LEFT('Transfer In'!C108,4)","v":""},{"$f":"IF('Transfer In'!F108=\"\",\"\",+'Transfer In'!F108)","v":""}]
["IN","UC",{"$f":"+'[4]Transfer IN'!A109","v":100},{"$f":"IF('Transfer In'!B109=\"\",\"\",+'Transfer In'!B109)","v":""},{"$f":"LEFT('Transfer In'!C109,4)","v":""},{"$f":"IF('Transfer In'!F109=\"\",\"\",+'Transfer In'!F109)","v":""}]
["OUT","UC",{"$f":"+'[4]Transfer OUT'!A10","v":1},{"$f":"IF('Transfer Out'!B10=\"\",\"\",+'Transfer Out'!B10)","v":""},{"$f":"LEFT('Transfer Out'!C10,4)","v":""},{"$f":"IF('Transfer Out'!F10=\"\",\"\",+'Transfer Out'!F10)","v":""}]
["OUT","UC",{"$f":"+'[4]Transfer OUT'!A11","v":2},{"$f":"IF('Transfer Out'!B11=\"\",\"\",+'Transfer Out'!B11)","v":""},{"$f":"LEFT('Transfer Out'!C11,4)","v":""},{"$f":"IF('Transfer Out'!F11=\"\",\"\",+'Transfer Out'!F11)","v":""}]
["OUT","UC",{"$f":"+'[4]Transfer OUT'!A12","v":3},{"$f":"IF('Transfer Out'!B12=\"\",\"\",+'Transfer Out'!B12)","v":""},{"$f":"LEFT('Transfer Out'!C12,4)","v":""},{"$f":"IF('Transfer Out'!F12=\"\",\"\",+'Transfer Out'!F12)","v":""}]
["OUT","UC",{"$f":"+'[4]Transfer OUT'!A13","v":4},{"$f":"IF('Transfer Out'!B13=\"\",\"\",+'Transfer Out'!B13)","v":""},{"$f":"LEFT('Transfer Out'!C13,4)","v":""},{"$f":"IF('Transfer Out'!F13=\"\",\"\",+'Transfer Out'!F13)","v":""}]
["OUT","UC",{"$f":"+'[4]Transfer OUT'!A14","v":5},{"$f":"IF('Transfer Out'!B14=\"\",\"\",+'Transfer Out'!B14)","v":""},{"$f":"LEFT('Transfer Out'!C14,4)","v":""},{"$f":"IF('Transfer Out'!F14=\"\",\"\",+'Transfer Out'!F14)","v":""}]
["OUT","UC",{"$f":"+'[4]Transfer OUT'!A15","v":6},{"$f":"IF('Transfer Out'!B15=\"\",\"\",+'Transfer Out'!B15)","v":""},{"$f":"LEFT('Transfer Out'!C15,4)","v":""},{"$f":"IF('Transfer Out'!F15=\"\",\"\",+'Transfer Out'!F15)","v":""}]
["OUT","UC",{"$f":"+'[4]Transfer OUT'!A16","v":7},{"$f":"IF('Transfer Out'!B16=\"\",\"\",+'Transfer Out'!B16)","v":""},{"$f":"LEFT('Transfer Out'!C16,4)","v":""},{"$f":"IF('Transfer Out'!F16=\"\",\"\",+'Transfer Out'!F16)","v":""}]
["OUT","UC",{"$f":"+'[4]Transfer OUT'!A17","v":8},{"$f":"IF('Transfer Out'!B17=\"\",\"\",+'Transfer Out'!B17)","v":""},{"$f":"LEFT('Transfer Out'!C17,4)","v":""},{"$f":"IF('Transfer Out'!F17=\"\",\"\",+'Transfer Out'!F17)","v":""}]
["OUT","UC",{"$f":"+'[4]Transfer OUT'!A18","v":9},{"$f":"IF('Transfer Out'!B18=\"\",\"\",+'Transfer Out'!B18)","v":""},{"$f":"LEFT('Transfer Out'!C18,4)","v":""},{"$f":"IF('Transfer Out'!F18=\"\",\"\",+'Transfer Out'!F18)","v":""}]
["OUT","UC",{"$f":"+'[4]Transfer OUT'!A19","v":10},{"$f":"IF('Transfer Out'!B19=\"\",\"\",+'Transfer Out'!B19)","v":""},{"$f":"LEFT('Transfer Out'!C19,4)","v":""},{"$f":"IF('Transfer Out'!F19=\"\",\"\",+'Transfer Out'!F19)","v":""}]
["OUT","UC",{"$f":"+'[4]Transfer OUT'!A20","v":11},{"$f":"IF('Transfer Out'!B20=\"\",\"\",+'Transfer Out'!B20)","v":""},{"$f":"LEFT('Transfer Out'!C20,4)","v":""},{"$f":"IF('Transfer Out'!F20=\"\",\"\",+'Transfer Out'!F20)","v":""}]
["OUT","UC",{"$f":"+'[4]Transfer OUT'!A21","v":12},{"$f":"IF('Transfer Out'!B21=\"\",\"\",+'Transfer Out'!B21)","v":""},{"$f":"LEFT('Transfer Out'!C21,4)","v":""},{"$f":"IF('Transfer Out'!F21=\"\",\"\",+'Transfer Out'!F21)","v":""}]
["OUT","UC",{"$f":"+'[4]Transfer OUT'!A22","v":13},{"$f":"IF('Transfer Out'!B22=\"\",\"\",+'Transfer Out'!B22)","v":""},{"$f":"LEFT('Transfer Out'!C22,4)","v":""},{"$f":"IF('Transfer Out'!F22=\"\",\"\",+'Transfer Out'!F22)","v":""}]
["OUT","UC",{"$f":"+'[4]Transfer OUT'!A23","v":14},{"$f":"IF('Transfer Out'!B23=\"\",\"\",+'Transfer Out'!B23)","v":""},{"$f":"LEFT('Transfer Out'!C23,4)","v":""},{"$f":"IF('Transfer Out'!F23=\"\",\"\",+'Transfer Out'!F23)","v":""}]
["OUT","UC",{"$f":"+'[4]Transfer OUT'!A24","v":15},{"$f":"IF('Transfer Out'!B24=\"\",\"\",+'Transfer Out'!B24)","v":""},{"$f":"LEFT('Transfer Out'!C24,4)","v":""},{"$f":"IF('Transfer Out'!F24=\"\",\"\",+'Transfer Out'!F24)","v":""}]
["OUT","UC",{"$f":"+'[4]Transfer OUT'!A25","v":16},{"$f":"IF('Transfer Out'!B25=\"\",\"\",+'Transfer Out'!B25)","v":""},{"$f":"LEFT('Transfer Out'!C25,4)","v":""},{"$f":"IF('Transfer Out'!F25=\"\",\"\",+'Transfer Out'!F25)","v":""}]
["OUT","UC",{"$f":"+'[4]Transfer OUT'!A26","v":17},{"$f":"IF('Transfer Out'!B26=\"\",\"\",+'Transfer Out'!B26)","v":""},{"$f":"LEFT('Transfer Out'!C26,4)","v":""},{"$f":"IF('Transfer Out'!F26=\"\",\"\",+'Transfer Out'!F26)","v":""}]
["OUT","UC",{"$f":"+'[4]Transfer OUT'!A27","v":18},{"$f":"IF('Transfer Out'!B27=\"\",\"\",+'Transfer Out'!B27)","v":""},{"$f":"LEFT('Transfer Out'!C27,4)","v":""},{"$f":"IF('Transfer Out'!F27=\"\",\"\",+'Transfer Out'!F27)","v":""}]
["OUT","UC",{"$f":"+'[4]Transfer OUT'!A28","v":19},{"$f":"IF('Transfer Out'!B28=\"\",\"\",+'Transfer Out'!B28)","v":""},{"$f":"LEFT('Transfer Out'!C28,4)","v":""},{"$f":"IF('Transfer Out'!F28=\"\",\"\",+'Transfer Out'!F28)","v":""}]
["OUT","UC",{"$f":"+'[4]Transfer OUT'!A29","v":20},{"$f":"IF('Transfer Out'!B29=\"\",\"\",+'Transfer Out'!B29)","v":""},{"$f":"LEFT('Transfer Out'!C29,4)","v":""},{"$f":"IF('Transfer Out'!F29=\"\",\"\",+'Transfer Out'!F29)","v":""}]
["OUT","UC",{"$f":"+'[4]Transfer OUT'!A30","v":21},{"$f":"IF('Transfer Out'!B30=\"\",\"\",+'Transfer Out'!B30)","v":""},{"$f":"LEFT('Transfer Out'!C30,4)","v":""},{"$f":"IF('Transfer Out'!F30=\"\",\"\",+'Transfer Out'!F30)","v":""}]
["OUT","UC",{"$f":"+'[4]Transfer OUT'!A31","v":22},{"$f":"IF('Transfer Out'!B31=\"\",\"\",+'Transfer Out'!B31)","v":""},{"$f":"LEFT('Transfer Out'!C31,4)","v":""},{"$f":"IF('Transfer Out'!F31=\"\",\"\",+'Transfer Out'!F31)","v":""}]
["OUT","UC",{"$f":"+'[4]Transfer OUT'!A32","v":23},{"$f":"IF('Transfer Out'!B32=\"\",\"\",+'Transfer Out'!B32)","v":""},{"$f":"LEFT('Transfer Out'!C32,4)","v":""},{"$f":"IF('Transfer Out'!F32=\"\",\"\",+'Transfer Out'!F32)","v":""}]
["OUT","UC",{"$f":"+'[4]Transfer OUT'!A33","v":24},{"$f":"IF('Transfer Out'!B33=\"\",\"\",+'Transfer Out'!B33)","v":""},{"$f":"LEFT('Transfer Out'!C33,4)","v":""},{"$f":"IF('Transfer Out'!F33=\"\",\"\",+'Transfer Out'!F33)","v":""}]
["OUT","UC",{"$f":"+'[4]Transfer OUT'!A34","v":25},{"$f":"IF('Transfer Out'!B34=\"\",\"\",+'Transfer Out'!B34)","v":""},{"$f":"LEFT('Transfer Out'!C34,4)","v":""},{"$f":"IF('Transfer Out'!F34=\"\",\"\",+'Transfer Out'!F34)","v":""}]
["OUT","UC",{"$f":"+'[4]Transfer OUT'!A35","v":26},{"$f":"IF('Transfer Out'!B35=\"\",\"\",+'Transfer Out'!B35)","v":""},{"$f":"LEFT('Transfer Out'!C35,4)","v":""},{"$f":"IF('Transfer Out'!F35=\"\",\"\",+'Transfer Out'!F35)","v":""}]
["OUT","UC",{"$f":"+'[4]Transfer OUT'!A36","v":27},{"$f":"IF('Transfer Out'!B36=\"\",\"\",+'Transfer Out'!B36)","v":""},{"$f":"LEFT('Transfer Out'!C36,4)","v":""},{"$f":"IF('Transfer Out'!F36=\"\",\"\",+'Transfer Out'!F36)","v":""}]
["OUT","UC",{"$f":"+'[4]Transfer OUT'!A37","v":28},{"$f":"IF('Transfer Out'!B37=\"\",\"\",+'Transfer Out'!B37)","v":""},{"$f":"LEFT('Transfer Out'!C37,4)","v":""},{"$f":"IF('Transfer Out'!F37=\"\",\"\",+'Transfer Out'!F37)","v":""}]
["OUT","UC",{"$f":"+'[4]Transfer OUT'!A38","v":29},{"$f":"IF('Transfer Out'!B38=\"\",\"\",+'Transfer Out'!B38)","v":""},{"$f":"LEFT('Transfer Out'!C38,4)","v":""},{"$f":"IF('Transfer Out'!F38=\"\",\"\",+'Transfer Out'!F38)","v":""}]
["OUT","UC",{"$f":"+'[4]Transfer OUT'!A39","v":30},{"$f":"IF('Transfer Out'!B39=\"\",\"\",+'Transfer Out'!B39)","v":""},{"$f":"LEFT('Transfer Out'!C39,4)","v":""},{"$f":"IF('Transfer Out'!F39=\"\",\"\",+'Transfer Out'!F39)","v":""}]
["OUT","UC",{"$f":"+'[4]Transfer OUT'!A40","v":31},{"$f":"IF('Transfer Out'!B40=\"\",\"\",+'Transfer Out'!B40)","v":""},{"$f":"LEFT('Transfer Out'!C40,4)","v":""},{"$f":"IF('Transfer Out'!F40=\"\",\"\",+'Transfer Out'!F40)","v":""}]
["OUT","UC",{"$f":"+'[4]Transfer OUT'!A41","v":32},{"$f":"IF('Transfer Out'!B41=\"\",\"\",+'Transfer Out'!B41)","v":""},{"$f":"LEFT('Transfer Out'!C41,4)","v":""},{"$f":"IF('Transfer Out'!F41=\"\",\"\",+'Transfer Out'!F41)","v":""}]
["OUT","UC",{"$f":"+'[4]Transfer OUT'!A42","v":33},{"$f":"IF('Transfer Out'!B42=\"\",\"\",+'Transfer Out'!B42)","v":""},{"$f":"LEFT('Transfer Out'!C42,4)","v":""},{"$f":"IF('Transfer Out'!F42=\"\",\"\",+'Transfer Out'!F42)","v":""}]
["OUT","UC",{"$f":"+'[4]Transfer OUT'!A43","v":34},{"$f":"IF('Transfer Out'!B43=\"\",\"\",+'Transfer Out'!B43)","v":""},{"$f":"LEFT('Transfer Out'!C43,4)","v":""},{"$f":"IF('Transfer Out'!F43=\"\",\"\",+'Transfer Out'!F43)","v":""}]
["OUT","UC",{"$f":"+'[4]Transfer OUT'!A44","v":35},{"$f":"IF('Transfer Out'!B44=\"\",\"\",+'Transfer Out'!B44)","v":""},{"$f":"LEFT('Transfer Out'!C44,4)","v":""},{"$f":"IF('Transfer Out'!F44=\"\",\"\",+'Transfer Out'!F44)","v":""}]
["OUT","UC",{"$f":"+'[4]Transfer OUT'!A45","v":36},{"$f":"IF('Transfer Out'!B45=\"\",\"\",+'Transfer Out'!B45)","v":""},{"$f":"LEFT('Transfer Out'!C45,4)","v":""},{"$f":"IF('Transfer Out'!F45=\"\",\"\",+'Transfer Out'!F45)","v":""}]
["OUT","UC",{"$f":"+'[4]Transfer OUT'!A46","v":37},{"$f":"IF('Transfer Out'!B46=\"\",\"\",+'Transfer Out'!B46)","v":""},{"$f":"LEFT('Transfer Out'!C46,4)","v":""},{"$f":"IF('Transfer Out'!F46=\"\",\"\",+'Transfer Out'!F46)","v":""}]
["OUT","UC",{"$f":"+'[4]Transfer OUT'!A47","v":38},{"$f":"IF('Transfer Out'!B47=\"\",\"\",+'Transfer Out'!B47)","v":""},{"$f":"LEFT('Transfer Out'!C47,4)","v":""},{"$f":"IF('Transfer Out'!F47=\"\",\"\",+'Transfer Out'!F47)","v":""}]
["OUT","UC",{"$f":"+'[4]Transfer OUT'!A48","v":39},{"$f":"IF('Transfer Out'!B48=\"\",\"\",+'Transfer Out'!B48)","v":""},{"$f":"LEFT('Transfer Out'!C48,4)","v":""},{"$f":"IF('Transfer Out'!F48=\"\",\"\",+'Transfer Out'!F48)","v":""}]
["OUT","UC",{"$f":"+'[4]Transfer OUT'!A49","v":40},{"$f":"IF('Transfer Out'!B49=\"\",\"\",+'Transfer Out'!B49)","v":""},{"$f":"LEFT('Transfer Out'!C49,4)","v":""},{"$f":"IF('Transfer Out'!F49=\"\",\"\",+'Transfer Out'!F49)","v":""}]
["OUT","UC",{"$f":"+'[4]Transfer OUT'!A50","v":41},{"$f":"IF('Transfer Out'!B50=\"\",\"\",+'Transfer Out'!B50)","v":""},{"$f":"LEFT('Transfer Out'!C50,4)","v":""},{"$f":"IF('Transfer Out'!F50=\"\",\"\",+'Transfer Out'!F50)","v":""}]
["OUT","UC",{"$f":"+'[4]Transfer OUT'!A51","v":42},{"$f":"IF('Transfer Out'!B51=\"\",\"\",+'Transfer Out'!B51)","v":""},{"$f":"LEFT('Transfer Out'!C51,4)","v":""},{"$f":"IF('Transfer Out'!F51=\"\",\"\",+'Transfer Out'!F51)","v":""}]
["OUT","UC",{"$f":"+'[4]Transfer OUT'!A52","v":43},{"$f":"IF('Transfer Out'!B52=\"\",\"\",+'Transfer Out'!B52)","v":""},{"$f":"LEFT('Transfer Out'!C52,4)","v":""},{"$f":"IF('Transfer Out'!F52=\"\",\"\",+'Transfer Out'!F52)","v":""}]
["OUT","UC",{"$f":"+'[4]Transfer OUT'!A53","v":44},{"$f":"IF('Transfer Out'!B53=\"\",\"\",+'Transfer Out'!B53)","v":""},{"$f":"LEFT('Transfer Out'!C53,4)","v":""},{"$f":"IF('Transfer Out'!F53=\"\",\"\",+'Transfer Out'!F53)","v":""}]
["OUT","UC",{"$f":"+'[4]Transfer OUT'!A54","v":45},{"$f":"IF('Transfer Out'!B54=\"\",\"\",+'Transfer Out'!B54)","v":""},{"$f":"LEFT('Transfer Out'!C54,4)","v":""},{"$f":"IF('Transfer Out'!F54=\"\",\"\",+'Transfer Out'!F54)","v":""}]
["OUT","UC",{"$f":"+'[4]Transfer OUT'!A55","v":46},{"$f":"IF('Transfer Out'!B55=\"\",\"\",+'Transfer Out'!B55)","v":""},{"$f":"LEFT('Transfer Out'!C55,4)","v":""},{"$f":"IF('Transfer Out'!F55=\"\",\"\",+'Transfer Out'!F55)","v":""}]
["OUT","UC",{"$f":"+'[4]Transfer OUT'!A56","v":47},{"$f":"IF('Transfer Out'!B56=\"\",\"\",+'Transfer Out'!B56)","v":""},{"$f":"LEFT('Transfer Out'!C56,4)","v":""},{"$f":"IF('Transfer Out'!F56=\"\",\"\",+'Transfer Out'!F56)","v":""}]
["OUT","UC",{"$f":"+'[4]Transfer OUT'!A57","v":48},{"$f":"IF('Transfer Out'!B57=\"\",\"\",+'Transfer Out'!B57)","v":""},{"$f":"LEFT('Transfer Out'!C57,4)","v":""},{"$f":"IF('Transfer Out'!F57=\"\",\"\",+'Transfer Out'!F57)","v":""}]
["OUT","UC",{"$f":"+'[4]Transfer OUT'!A58","v":49},{"$f":"IF('Transfer Out'!B58=\"\",\"\",+'Transfer Out'!B58)","v":""},{"$f":"LEFT('Transfer Out'!C58,4)","v":""},{"$f":"IF('Transfer Out'!F58=\"\",\"\",+'Transfer Out'!F58)","v":""}]
["OUT","UC",{"$f":"+'[4]Transfer OUT'!A59","v":50},{"$f":"IF('Transfer Out'!B59=\"\",\"\",+'Transfer Out'!B59)","v":""},{"$f":"LEFT('Transfer Out'!C59,4)","v":""},{"$f":"IF('Transfer Out'!F59=\"\",\"\",+'Transfer Out'!F59)","v":""}]
["OUT","UC",{"$f":"+'[4]Transfer OUT'!A60","v":51},{"$f":"IF('Transfer Out'!B60=\"\",\"\",+'Transfer Out'!B60)","v":""},{"$f":"LEFT('Transfer Out'!C60,4)","v":""},{"$f":"IF('Transfer Out'!F60=\"\",\"\",+'Transfer Out'!F60)","v":""}]
["OUT","UC",{"$f":"+'[4]Transfer OUT'!A61","v":52},{"$f":"IF('Transfer Out'!B61=\"\",\"\",+'Transfer Out'!B61)","v":""},{"$f":"LEFT('Transfer Out'!C61,4)","v":""},{"$f":"IF('Transfer Out'!F61=\"\",\"\",+'Transfer Out'!F61)","v":""}]
["OUT","UC",{"$f":"+'[4]Transfer OUT'!A62","v":53},{"$f":"IF('Transfer Out'!B62=\"\",\"\",+'Transfer Out'!B62)","v":""},{"$f":"LEFT('Transfer Out'!C62,4)","v":""},{"$f":"IF('Transfer Out'!F62=\"\",\"\",+'Transfer Out'!F62)","v":""}]
["OUT","UC",{"$f":"+'[4]Transfer OUT'!A63","v":54},{"$f":"IF('Transfer Out'!B63=\"\",\"\",+'Transfer Out'!B63)","v":""},{"$f":"LEFT('Transfer Out'!C63,4)","v":""},{"$f":"IF('Transfer Out'!F63=\"\",\"\",+'Transfer Out'!F63)","v":""}]
["OUT","UC",{"$f":"+'[4]Transfer OUT'!A64","v":55},{"$f":"IF('Transfer Out'!B64=\"\",\"\",+'Transfer Out'!B64)","v":""},{"$f":"LEFT('Transfer Out'!C64,4)","v":""},{"$f":"IF('Transfer Out'!F64=\"\",\"\",+'Transfer Out'!F64)","v":""}]
["OUT","UC",{"$f":"+'[4]Transfer OUT'!A65","v":56},{"$f":"IF('Transfer Out'!B65=\"\",\"\",+'Transfer Out'!B65)","v":""},{"$f":"LEFT('Transfer Out'!C65,4)","v":""},{"$f":"IF('Transfer Out'!F65=\"\",\"\",+'Transfer Out'!F65)","v":""}]
["OUT","UC",{"$f":"+'[4]Transfer OUT'!A66","v":57},{"$f":"IF('Transfer Out'!B66=\"\",\"\",+'Transfer Out'!B66)","v":""},{"$f":"LEFT('Transfer Out'!C66,4)","v":""},{"$f":"IF('Transfer Out'!F66=\"\",\"\",+'Transfer Out'!F66)","v":""}]
["OUT","UC",{"$f":"+'[4]Transfer OUT'!A67","v":58},{"$f":"IF('Transfer Out'!B67=\"\",\"\",+'Transfer Out'!B67)","v":""},{"$f":"LEFT('Transfer Out'!C67,4)","v":""},{"$f":"IF('Transfer Out'!F67=\"\",\"\",+'Transfer Out'!F67)","v":""}]
["OUT","UC",{"$f":"+'[4]Transfer OUT'!A68","v":59},{"$f":"IF('Transfer Out'!B68=\"\",\"\",+'Transfer Out'!B68)","v":""},{"$f":"LEFT('Transfer Out'!C68,4)","v":""},{"$f":"IF('Transfer Out'!F68=\"\",\"\",+'Transfer Out'!F68)","v":""}]
["OUT","UC",{"$f":"+'[4]Transfer OUT'!A69","v":60},{"$f":"IF('Transfer Out'!B69=\"\",\"\",+'Transfer Out'!B69)","v":""},{"$f":"LEFT('Transfer Out'!C69,4)","v":""},{"$f":"IF('Transfer Out'!F69=\"\",\"\",+'Transfer Out'!F69)","v":""}]
["OUT","UC",{"$f":"+'[4]Transfer OUT'!A70","v":61},{"$f":"IF('Transfer Out'!B70=\"\",\"\",+'Transfer Out'!B70)","v":""},{"$f":"LEFT('Transfer Out'!C70,4)","v":""},{"$f":"IF('Transfer Out'!F70=\"\",\"\",+'Transfer Out'!F70)","v":""}]
["OUT","UC",{"$f":"+'[4]Transfer OUT'!A71","v":62},{"$f":"IF('Transfer Out'!B71=\"\",\"\",+'Transfer Out'!B71)","v":""},{"$f":"LEFT('Transfer Out'!C71,4)","v":""},{"$f":"IF('Transfer Out'!F71=\"\",\"\",+'Transfer Out'!F71)","v":""}]
["OUT","UC",{"$f":"+'[4]Transfer OUT'!A72","v":63},{"$f":"IF('Transfer Out'!B72=\"\",\"\",+'Transfer Out'!B72)","v":""},{"$f":"LEFT('Transfer Out'!C72,4)","v":""},{"$f":"IF('Transfer Out'!F72=\"\",\"\",+'Transfer Out'!F72)","v":""}]
["OUT","UC",{"$f":"+'[4]Transfer OUT'!A73","v":64},{"$f":"IF('Transfer Out'!B73=\"\",\"\",+'Transfer Out'!B73)","v":""},{"$f":"LEFT('Transfer Out'!C73,4)","v":""},{"$f":"IF('Transfer Out'!F73=\"\",\"\",+'Transfer Out'!F73)","v":""}]
["OUT","UC",{"$f":"+'[4]Transfer OUT'!A74","v":65},{"$f":"IF('Transfer Out'!B74=\"\",\"\",+'Transfer Out'!B74)","v":""},{"$f":"LEFT('Transfer Out'!C74,4)","v":""},{"$f":"IF('Transfer Out'!F74=\"\",\"\",+'Transfer Out'!F74)","v":""}]
["OUT","UC",{"$f":"+'[4]Transfer OUT'!A75","v":66},{"$f":"IF('Transfer Out'!B75=\"\",\"\",+'Transfer Out'!B75)","v":""},{"$f":"LEFT('Transfer Out'!C75,4)","v":""},{"$f":"IF('Transfer Out'!F75=\"\",\"\",+'Transfer Out'!F75)","v":""}]
["OUT","UC",{"$f":"+'[4]Transfer OUT'!A76","v":67},{"$f":"IF('Transfer Out'!B76=\"\",\"\",+'Transfer Out'!B76)","v":""},{"$f":"LEFT('Transfer Out'!C76,4)","v":""},{"$f":"IF('Transfer Out'!F76=\"\",\"\",+'Transfer Out'!F76)","v":""}]
["OUT","UC",{"$f":"+'[4]Transfer OUT'!A77","v":68},{"$f":"IF('Transfer Out'!B77=\"\",\"\",+'Transfer Out'!B77)","v":""},{"$f":"LEFT('Transfer Out'!C77,4)","v":""},{"$f":"IF('Transfer Out'!F77=\"\",\"\",+'Transfer Out'!F77)","v":""}]
["OUT","UC",{"$f":"+'[4]Transfer OUT'!A78","v":69},{"$f":"IF('Transfer Out'!B78=\"\",\"\",+'Transfer Out'!B78)","v":""},{"$f":"LEFT('Transfer Out'!C78,4)","v":""},{"$f":"IF('Transfer Out'!F78=\"\",\"\",+'Transfer Out'!F78)","v":""}]
["OUT","UC",{"$f":"+'[4]Transfer OUT'!A79","v":70},{"$f":"IF('Transfer Out'!B79=\"\",\"\",+'Transfer Out'!B79)","v":""},{"$f":"LEFT('Transfer Out'!C79,4)","v":""},{"$f":"IF('Transfer Out'!F79=\"\",\"\",+'Transfer Out'!F79)","v":""}]
["OUT","UC",{"$f":"+'[4]Transfer OUT'!A80","v":71},{"$f":"IF('Transfer Out'!B80=\"\",\"\",+'Transfer Out'!B80)","v":""},{"$f":"LEFT('Transfer Out'!C80,4)","v":""},{"$f":"IF('Transfer Out'!F80=\"\",\"\",+'Transfer Out'!F80)","v":""}]
["OUT","UC",{"$f":"+'[4]Transfer OUT'!A81","v":72},{"$f":"IF('Transfer Out'!B81=\"\",\"\",+'Transfer Out'!B81)","v":""},{"$f":"LEFT('Transfer Out'!C81,4)","v":""},{"$f":"IF('Transfer Out'!F81=\"\",\"\",+'Transfer Out'!F81)","v":""}]
["OUT","UC",{"$f":"+'[4]Transfer OUT'!A82","v":73},{"$f":"IF('Transfer Out'!B82=\"\",\"\",+'Transfer Out'!B82)","v":""},{"$f":"LEFT('Transfer Out'!C82,4)","v":""},{"$f":"IF('Transfer Out'!F82=\"\",\"\",+'Transfer Out'!F82)","v":""}]
["OUT","UC",{"$f":"+'[4]Transfer OUT'!A83","v":74},{"$f":"IF('Transfer Out'!B83=\"\",\"\",+'Transfer Out'!B83)","v":""},{"$f":"LEFT('Transfer Out'!C83,4)","v":""},{"$f":"IF('Transfer Out'!F83=\"\",\"\",+'Transfer Out'!F83)","v":""}]
["OUT","UC",{"$f":"+'[4]Transfer OUT'!A84","v":75},{"$f":"IF('Transfer Out'!B84=\"\",\"\",+'Transfer Out'!B84)","v":""},{"$f":"LEFT('Transfer Out'!C84,4)","v":""},{"$f":"IF('Transfer Out'!F84=\"\",\"\",+'Transfer Out'!F84)","v":""}]
["OUT","UC",{"$f":"+'[4]Transfer OUT'!A85","v":76},{"$f":"IF('Transfer Out'!B85=\"\",\"\",+'Transfer Out'!B85)","v":""},{"$f":"LEFT('Transfer Out'!C85,4)","v":""},{"$f":"IF('Transfer Out'!F85=\"\",\"\",+'Transfer Out'!F85)","v":""}]
["OUT","UC",{"$f":"+'[4]Transfer OUT'!A86","v":77},{"$f":"IF('Transfer Out'!B86=\"\",\"\",+'Transfer Out'!B86)","v":""},{"$f":"LEFT('Transfer Out'!C86,4)","v":""},{"$f":"IF('Transfer Out'!F86=\"\",\"\",+'Transfer Out'!F86)","v":""}]
["OUT","UC",{"$f":"+'[4]Transfer OUT'!A87","v":78},{"$f":"IF('Transfer Out'!B87=\"\",\"\",+'Transfer Out'!B87)","v":""},{"$f":"LEFT('Transfer Out'!C87,4)","v":""},{"$f":"IF('Transfer Out'!F87=\"\",\"\",+'Transfer Out'!F87)","v":""}]
["OUT","UC",{"$f":"+'[4]Transfer OUT'!A88","v":79},{"$f":"IF('Transfer Out'!B88=\"\",\"\",+'Transfer Out'!B88)","v":""},{"$f":"LEFT('Transfer Out'!C88,4)","v":""},{"$f":"IF('Transfer Out'!F88=\"\",\"\",+'Transfer Out'!F88)","v":""}]
["OUT","UC",{"$f":"+'[4]Transfer OUT'!A89","v":80},{"$f":"IF('Transfer Out'!B89=\"\",\"\",+'Transfer Out'!B89)","v":""},{"$f":"LEFT('Transfer Out'!C89,4)","v":""},{"$f":"IF('Transfer Out'!F89=\"\",\"\",+'Transfer Out'!F89)","v":""}]
["OUT","UC",{"$f":"+'[4]Transfer OUT'!A90","v":81},{"$f":"IF('Transfer Out'!B90=\"\",\"\",+'Transfer Out'!B90)","v":""},{"$f":"LEFT('Transfer Out'!C90,4)","v":""},{"$f":"IF('Transfer Out'!F90=\"\",\"\",+'Transfer Out'!F90)","v":""}]
["OUT","UC",{"$f":"+'[4]Transfer OUT'!A91","v":82},{"$f":"IF('Transfer Out'!B91=\"\",\"\",+'Transfer Out'!B91)","v":""},{"$f":"LEFT('Transfer Out'!C91,4)","v":""},{"$f":"IF('Transfer Out'!F91=\"\",\"\",+'Transfer Out'!F91)","v":""}]
["OUT","UC",{"$f":"+'[4]Transfer OUT'!A92","v":83},{"$f":"IF('Transfer Out'!B92=\"\",\"\",+'Transfer Out'!B92)","v":""},{"$f":"LEFT('Transfer Out'!C92,4)","v":""},{"$f":"IF('Transfer Out'!F92=\"\",\"\",+'Transfer Out'!F92)","v":""}]
["OUT","UC",{"$f":"+'[4]Transfer OUT'!A93","v":84},{"$f":"IF('Transfer Out'!B93=\"\",\"\",+'Transfer Out'!B93)","v":""},{"$f":"LEFT('Transfer Out'!C93,4)","v":""},{"$f":"IF('Transfer Out'!F93=\"\",\"\",+'Transfer Out'!F93)","v":""}]
["OUT","UC",{"$f":"+'[4]Transfer OUT'!A94","v":85},{"$f":"IF('Transfer Out'!B94=\"\",\"\",+'Transfer Out'!B94)","v":""},{"$f":"LEFT('Transfer Out'!C94,4)","v":""},{"$f":"IF('Transfer Out'!F94=\"\",\"\",+'Transfer Out'!F94)","v":""}]
["OUT","UC",{"$f":"+'[4]Transfer OUT'!A95","v":86},{"$f":"IF('Transfer Out'!B95=\"\",\"\",+'Transfer Out'!B95)","v":""},{"$f":"LEFT('Transfer Out'!C95,4)","v":""},{"$f":"IF('Transfer Out'!F95=\"\",\"\",+'Transfer Out'!F95)","v":""}]
["OUT","UC",{"$f":"+'[4]Transfer OUT'!A96","v":87},{"$f":"IF('Transfer Out'!B96=\"\",\"\",+'Transfer Out'!B96)","v":""},{"$f":"LEFT('Transfer Out'!C96,4)","v":""},{"$f":"IF('Transfer Out'!F96=\"\",\"\",+'Transfer Out'!F96)","v":""}]
["OUT","UC",{"$f":"+'[4]Transfer OUT'!A97","v":88},{"$f":"IF('Transfer Out'!B97=\"\",\"\",+'Transfer Out'!B97)","v":""},{"$f":"LEFT('Transfer Out'!C97,4)","v":""},{"$f":"IF('Transfer Out'!F97=\"\",\"\",+'Transfer Out'!F97)","v":""}]
["OUT","UC",{"$f":"+'[4]Transfer OUT'!A98","v":89},{"$f":"IF('Transfer Out'!B98=\"\",\"\",+'Transfer Out'!B98)","v":""},{"$f":"LEFT('Transfer Out'!C98,4)","v":""},{"$f":"IF('Transfer Out'!F98=\"\",\"\",+'Transfer Out'!F98)","v":""}]
["OUT","UC",{"$f":"+'[4]Transfer OUT'!A99","v":90},{"$f":"IF('Transfer Out'!B99=\"\",\"\",+'Transfer Out'!B99)","v":""},{"$f":"LEFT('Transfer Out'!C99,4)","v":""},{"$f":"IF('Transfer Out'!F99=\"\",\"\",+'Transfer Out'!F99)","v":""}]
["OUT","UC",{"$f":"+'[4]Transfer OUT'!A100","v":91},{"$f":"IF('Transfer Out'!B100=\"\",\"\",+'Transfer Out'!B100)","v":""},{"$f":"LEFT('Transfer Out'!C100,4)","v":""},{"$f":"IF('Transfer Out'!F100=\"\",\"\",+'Transfer Out'!F100)","v":""}]
["OUT","UC",{"$f":"+'[4]Transfer OUT'!A101","v":92},{"$f":"IF('Transfer Out'!B101=\"\",\"\",+'Transfer Out'!B101)","v":""},{"$f":"LEFT('Transfer Out'!C101,4)","v":""},{"$f":"IF('Transfer Out'!F101=\"\",\"\",+'Transfer Out'!F101)","v":""}]
["OUT","UC",{"$f":"+'[4]Transfer OUT'!A102","v":93},{"$f":"IF('Transfer Out'!B102=\"\",\"\",+'Transfer Out'!B102)","v":""},{"$f":"LEFT('Transfer Out'!C102,4)","v":""},{"$f":"IF('Transfer Out'!F102=\"\",\"\",+'Transfer Out'!F102)","v":""}]
["OUT","UC",{"$f":"+'[4]Transfer OUT'!A103","v":94},{"$f":"IF('Transfer Out'!B103=\"\",\"\",+'Transfer Out'!B103)","v":""},{"$f":"LEFT('Transfer Out'!C103,4)","v":""},{"$f":"IF('Transfer Out'!F103=\"\",\"\",+'Transfer Out'!F103)","v":""}]
["OUT","UC",{"$f":"+'[4]Transfer OUT'!A104","v":95},{"$f":"IF('Transfer Out'!B104=\"\",\"\",+'Transfer Out'!B104)","v":""},{"$f":"LEFT('Transfer Out'!C104,4)","v":""},{"$f":"IF('Transfer Out'!F104=\"\",\"\",+'Transfer Out'!F104)","v":""}]
["OUT","UC",{"$f":"+'[4]Transfer OUT'!A105","v":96},{"$f":"IF('Transfer Out'!B105=\"\",\"\",+'Transfer Out'!B105)","v":""},{"$f":"LEFT('Transfer Out'!C105,4)","v":""},{"$f":"IF('Transfer Out'!F105=\"\",\"\",+'Transfer Out'!F105)","v":""}]
["OUT","UC",{"$f":"+'[4]Transfer OUT'!A106","v":97},{"$f":"IF('Transfer Out'!B106=\"\",\"\",+'Transfer Out'!B106)","v":""},{"$f":"LEFT('Transfer Out'!C106,4)","v":""},{"$f":"IF('Transfer Out'!F106=\"\",\"\",+'Transfer Out'!F106)","v":""}]
["OUT","UC",{"$f":"+'[4]Transfer OUT'!A107","v":98},{"$f":"IF('Transfer Out'!B107=\"\",\"\",+'Transfer Out'!B107)","v":""},{"$f":"LEFT('Transfer Out'!C107,4)","v":""},{"$f":"IF('Transfer Out'!F107=\"\",\"\",+'Transfer Out'!F107)","v":""}]
["OUT","UC",{"$f":"+'[4]Transfer OUT'!A108","v":99},{"$f":"IF('Transfer Out'!B108=\"\",\"\",+'Transfer Out'!B108)","v":""},{"$f":"LEFT('Transfer Out'!C108,4)","v":""},{"$f":"IF('Transfer Out'!F108=\"\",\"\",+'Transfer Out'!F108)","v":""}]
["OUT","UC",{"$f":"+'[4]Transfer OUT'!A109","v":100},{"$f":"IF('Transfer Out'!B109=\"\",\"\",+'Transfer Out'!B109)","v":""},{"$f":"LEFT('Transfer Out'!C109,4)","v":""},{"$f":"IF('Transfer Out'!F109=\"\",\"\",+'Transfer Out'!F109)","v":""}]

{"sheet":"Upload to Budget Construction","index":5,"n_rows":12,"n_cols":1,"rows_kept":12,"cut":false,"hidden":false,"merged":[]}
["UCONN FY18 Budget Submission Transfer Upload to Budget Construction"]
[]
["To create a file to automatically upload transfers to Budget construction, click the \"Create BC Upload File\" button below:"]
[]
[]
[]
[]
["The Upload tab should not be modified in any way, otherwise an error will occur."]
[]
["For detailed instruction the users manual highlights the upload process of contact your Budget Analyst."]
[]
["http://budget.uconn.edu/wp-content/uploads/sites/1441/2017/03/FY18-Budget-Construction-Procedure-Manual.pdf"]

{"sheet":"Upload","index":6,"n_rows":200,"n_cols":6,"rows_kept":200,"cut":false,"hidden":false,"merged":[]}
[{"$f":"+Pivot!G25","v":""},{"$f":"+Pivot!F25","v":""},null,{"$f":"+Pivot!H25","v":""},null,{"$f":"+Pivot!I25","v":""}]
[{"$f":"+Pivot!G26","v":""},{"$f":"+Pivot!F26","v":""},null,{"$f":"+Pivot!H26","v":""},null,{"$f":"+Pivot!I26","v":""}]
[{"$f":"+Pivot!G27","v":""},{"$f":"+Pivot!F27","v":""},null,{"$f":"+Pivot!H27","v":""},null,{"$f":"+Pivot!I27","v":""}]
[{"$f":"+Pivot!G28","v":""},{"$f":"+Pivot!F28","v":""},null,{"$f":"+Pivot!H28","v":""},null,{"$f":"+Pivot!I28","v":""}]
[{"$f":"+Pivot!G29","v":""},{"$f":"+Pivot!F29","v":""},null,{"$f":"+Pivot!H29","v":""},null,{"$f":"+Pivot!I29","v":""}]
[{"$f":"+Pivot!G30","v":""},{"$f":"+Pivot!F30","v":""},null,{"$f":"+Pivot!H30","v":""},null,{"$f":"+Pivot!I30","v":""}]
[{"$f":"+Pivot!G31","v":""},{"$f":"+Pivot!F31","v":""},null,{"$f":"+Pivot!H31","v":""},null,{"$f":"+Pivot!I31","v":""}]
[{"$f":"+Pivot!G32","v":""},{"$f":"+Pivot!F32","v":""},null,{"$f":"+Pivot!H32","v":""},null,{"$f":"+Pivot!I32","v":""}]
[{"$f":"+Pivot!G33","v":""},{"$f":"+Pivot!F33","v":""},null,{"$f":"+Pivot!H33","v":""},null,{"$f":"+Pivot!I33","v":""}]
[{"$f":"+Pivot!G34","v":""},{"$f":"+Pivot!F34","v":""},null,{"$f":"+Pivot!H34","v":""},null,{"$f":"+Pivot!I34","v":""}]
[{"$f":"+Pivot!G35","v":""},{"$f":"+Pivot!F35","v":""},null,{"$f":"+Pivot!H35","v":""},null,{"$f":"+Pivot!I35","v":""}]
[{"$f":"+Pivot!G36","v":""},{"$f":"+Pivot!F36","v":""},null,{"$f":"+Pivot!H36","v":""},null,{"$f":"+Pivot!I36","v":""}]
[{"$f":"+Pivot!G37","v":""},{"$f":"+Pivot!F37","v":""},null,{"$f":"+Pivot!H37","v":""},null,{"$f":"+Pivot!I37","v":""}]
[{"$f":"+Pivot!G38","v":""},{"$f":"+Pivot!F38","v":""},null,{"$f":"+Pivot!H38","v":""},null,{"$f":"+Pivot!I38","v":""}]
[{"$f":"+Pivot!G39","v":""},{"$f":"+Pivot!F39","v":""},null,{"$f":"+Pivot!H39","v":""},null,{"$f":"+Pivot!I39","v":""}]
[{"$f":"+Pivot!G40","v":""},{"$f":"+Pivot!F40","v":""},null,{"$f":"+Pivot!H40","v":""},null,{"$f":"+Pivot!I40","v":""}]
[{"$f":"+Pivot!G41","v":""},{"$f":"+Pivot!F41","v":""},null,{"$f":"+Pivot!H41","v":""},null,{"$f":"+Pivot!I41","v":""}]
[{"$f":"+Pivot!G42","v":""},{"$f":"+Pivot!F42","v":""},null,{"$f":"+Pivot!H42","v":""},null,{"$f":"+Pivot!I42","v":""}]
[{"$f":"+Pivot!G43","v":""},{"$f":"+Pivot!F43","v":""},null,{"$f":"+Pivot!H43","v":""},null,{"$f":"+Pivot!I43","v":""}]
[{"$f":"+Pivot!G44","v":""},{"$f":"+Pivot!F44","v":""},null,{"$f":"+Pivot!H44","v":""},null,{"$f":"+Pivot!I44","v":""}]
[{"$f":"+Pivot!G45","v":""},{"$f":"+Pivot!F45","v":""},null,{"$f":"+Pivot!H45","v":""},null,{"$f":"+Pivot!I45","v":""}]
[{"$f":"+Pivot!G46","v":""},{"$f":"+Pivot!F46","v":""},null,{"$f":"+Pivot!H46","v":""},null,{"$f":"+Pivot!I46","v":""}]
[{"$f":"+Pivot!G47","v":""},{"$f":"+Pivot!F47","v":""},null,{"$f":"+Pivot!H47","v":""},null,{"$f":"+Pivot!I47","v":""}]
[{"$f":"+Pivot!G48","v":""},{"$f":"+Pivot!F48","v":""},null,{"$f":"+Pivot!H48","v":""},null,{"$f":"+Pivot!I48","v":""}]
[{"$f":"+Pivot!G49","v":""},{"$f":"+Pivot!F49","v":""},null,{"$f":"+Pivot!H49","v":""},null,{"$f":"+Pivot!I49","v":""}]
[{"$f":"+Pivot!G50","v":""},{"$f":"+Pivot!F50","v":""},null,{"$f":"+Pivot!H50","v":""},null,{"$f":"+Pivot!I50","v":""}]
[{"$f":"+Pivot!G51","v":""},{"$f":"+Pivot!F51","v":""},null,{"$f":"+Pivot!H51","v":""},null,{"$f":"+Pivot!I51","v":""}]
[{"$f":"+Pivot!G52","v":""},{"$f":"+Pivot!F52","v":""},null,{"$f":"+Pivot!H52","v":""},null,{"$f":"+Pivot!I52","v":""}]
[{"$f":"+Pivot!G53","v":""},{"$f":"+Pivot!F53","v":""},null,{"$f":"+Pivot!H53","v":""},null,{"$f":"+Pivot!I53","v":""}]
[{"$f":"+Pivot!G54","v":""},{"$f":"+Pivot!F54","v":""},null,{"$f":"+Pivot!H54","v":""},null,{"$f":"+Pivot!I54","v":""}]
[{"$f":"+Pivot!G55","v":""},{"$f":"+Pivot!F55","v":""},null,{"$f":"+Pivot!H55","v":""},null,{"$f":"+Pivot!I55","v":""}]
[{"$f":"+Pivot!G56","v":""},{"$f":"+Pivot!F56","v":""},null,{"$f":"+Pivot!H56","v":""},null,{"$f":"+Pivot!I56","v":""}]
[{"$f":"+Pivot!G57","v":""},{"$f":"+Pivot!F57","v":""},null,{"$f":"+Pivot!H57","v":""},null,{"$f":"+Pivot!I57","v":""}]
[{"$f":"+Pivot!G58","v":""},{"$f":"+Pivot!F58","v":""},null,{"$f":"+Pivot!H58","v":""},null,{"$f":"+Pivot!I58","v":""}]
[{"$f":"+Pivot!G59","v":""},{"$f":"+Pivot!F59","v":""},null,{"$f":"+Pivot!H59","v":""},null,{"$f":"+Pivot!I59","v":""}]
[{"$f":"+Pivot!G60","v":""},{"$f":"+Pivot!F60","v":""},null,{"$f":"+Pivot!H60","v":""},null,{"$f":"+Pivot!I60","v":""}]
[{"$f":"+Pivot!G61","v":""},{"$f":"+Pivot!F61","v":""},null,{"$f":"+Pivot!H61","v":""},null,{"$f":"+Pivot!I61","v":""}]
[{"$f":"+Pivot!G62","v":""},{"$f":"+Pivot!F62","v":""},null,{"$f":"+Pivot!H62","v":""},null,{"$f":"+Pivot!I62","v":""}]
[{"$f":"+Pivot!G63","v":""},{"$f":"+Pivot!F63","v":""},null,{"$f":"+Pivot!H63","v":""},null,{"$f":"+Pivot!I63","v":""}]
[{"$f":"+Pivot!G64","v":""},{"$f":"+Pivot!F64","v":""},null,{"$f":"+Pivot!H64","v":""},null,{"$f":"+Pivot!I64","v":""}]
[{"$f":"+Pivot!G65","v":""},{"$f":"+Pivot!F65","v":""},null,{"$f":"+Pivot!H65","v":""},null,{"$f":"+Pivot!I65","v":""}]
[{"$f":"+Pivot!G66","v":""},{"$f":"+Pivot!F66","v":""},null,{"$f":"+Pivot!H66","v":""},null,{"$f":"+Pivot!I66","v":""}]
[{"$f":"+Pivot!G67","v":""},{"$f":"+Pivot!F67","v":""},null,{"$f":"+Pivot!H67","v":""},null,{"$f":"+Pivot!I67","v":""}]
[{"$f":"+Pivot!G68","v":""},{"$f":"+Pivot!F68","v":""},null,{"$f":"+Pivot!H68","v":""},null,{"$f":"+Pivot!I68","v":""}]
[{"$f":"+Pivot!G69","v":""},{"$f":"+Pivot!F69","v":""},null,{"$f":"+Pivot!H69","v":""},null,{"$f":"+Pivot!I69","v":""}]
[{"$f":"+Pivot!G70","v":""},{"$f":"+Pivot!F70","v":""},null,{"$f":"+Pivot!H70","v":""},null,{"$f":"+Pivot!I70","v":""}]
[{"$f":"+Pivot!G71","v":""},{"$f":"+Pivot!F71","v":""},null,{"$f":"+Pivot!H71","v":""},null,{"$f":"+Pivot!I71","v":""}]
[{"$f":"+Pivot!G72","v":""},{"$f":"+Pivot!F72","v":""},null,{"$f":"+Pivot!H72","v":""},null,{"$f":"+Pivot!I72","v":""}]
[{"$f":"+Pivot!G73","v":""},{"$f":"+Pivot!F73","v":""},null,{"$f":"+Pivot!H73","v":""},null,{"$f":"+Pivot!I73","v":""}]
[{"$f":"+Pivot!G74","v":""},{"$f":"+Pivot!F74","v":""},null,{"$f":"+Pivot!H74","v":""},null,{"$f":"+Pivot!I74","v":""}]
[{"$f":"+Pivot!G75","v":""},{"$f":"+Pivot!F75","v":""},null,{"$f":"+Pivot!H75","v":""},null,{"$f":"+Pivot!I75","v":""}]
[{"$f":"+Pivot!G76","v":""},{"$f":"+Pivot!F76","v":""},null,{"$f":"+Pivot!H76","v":""},null,{"$f":"+Pivot!I76","v":""}]
[{"$f":"+Pivot!G77","v":""},{"$f":"+Pivot!F77","v":""},null,{"$f":"+Pivot!H77","v":""},null,{"$f":"+Pivot!I77","v":""}]
[{"$f":"+Pivot!G78","v":""},{"$f":"+Pivot!F78","v":""},null,{"$f":"+Pivot!H78","v":""},null,{"$f":"+Pivot!I78","v":""}]
[{"$f":"+Pivot!G79","v":""},{"$f":"+Pivot!F79","v":""},null,{"$f":"+Pivot!H79","v":""},null,{"$f":"+Pivot!I79","v":""}]
[{"$f":"+Pivot!G80","v":""},{"$f":"+Pivot!F80","v":""},null,{"$f":"+Pivot!H80","v":""},null,{"$f":"+Pivot!I80","v":""}]
[{"$f":"+Pivot!G81","v":""},{"$f":"+Pivot!F81","v":""},null,{"$f":"+Pivot!H81","v":""},null,{"$f":"+Pivot!I81","v":""}]
[{"$f":"+Pivot!G82","v":""},{"$f":"+Pivot!F82","v":""},null,{"$f":"+Pivot!H82","v":""},null,{"$f":"+Pivot!I82","v":""}]
[{"$f":"+Pivot!G83","v":""},{"$f":"+Pivot!F83","v":""},null,{"$f":"+Pivot!H83","v":""},null,{"$f":"+Pivot!I83","v":""}]
[{"$f":"+Pivot!G84","v":""},{"$f":"+Pivot!F84","v":""},null,{"$f":"+Pivot!H84","v":""},null,{"$f":"+Pivot!I84","v":""}]
[{"$f":"+Pivot!G85","v":""},{"$f":"+Pivot!F85","v":""},null,{"$f":"+Pivot!H85","v":""},null,{"$f":"+Pivot!I85","v":""}]
[{"$f":"+Pivot!G86","v":""},{"$f":"+Pivot!F86","v":""},null,{"$f":"+Pivot!H86","v":""},null,{"$f":"+Pivot!I86","v":""}]
[{"$f":"+Pivot!G87","v":""},{"$f":"+Pivot!F87","v":""},null,{"$f":"+Pivot!H87","v":""},null,{"$f":"+Pivot!I87","v":""}]
[{"$f":"+Pivot!G88","v":""},{"$f":"+Pivot!F88","v":""},null,{"$f":"+Pivot!H88","v":""},null,{"$f":"+Pivot!I88","v":""}]
[{"$f":"+Pivot!G89","v":""},{"$f":"+Pivot!F89","v":""},null,{"$f":"+Pivot!H89","v":""},null,{"$f":"+Pivot!I89","v":""}]
[{"$f":"+Pivot!G90","v":""},{"$f":"+Pivot!F90","v":""},null,{"$f":"+Pivot!H90","v":""},null,{"$f":"+Pivot!I90","v":""}]
[{"$f":"+Pivot!G91","v":""},{"$f":"+Pivot!F91","v":""},null,{"$f":"+Pivot!H91","v":""},null,{"$f":"+Pivot!I91","v":""}]
[{"$f":"+Pivot!G92","v":""},{"$f":"+Pivot!F92","v":""},null,{"$f":"+Pivot!H92","v":""},null,{"$f":"+Pivot!I92","v":""}]
[{"$f":"+Pivot!G93","v":""},{"$f":"+Pivot!F93","v":""},null,{"$f":"+Pivot!H93","v":""},null,{"$f":"+Pivot!I93","v":""}]
[{"$f":"+Pivot!G94","v":""},{"$f":"+Pivot!F94","v":""},null,{"$f":"+Pivot!H94","v":""},null,{"$f":"+Pivot!I94","v":""}]
[{"$f":"+Pivot!G95","v":""},{"$f":"+Pivot!F95","v":""},null,{"$f":"+Pivot!H95","v":""},null,{"$f":"+Pivot!I95","v":""}]
[{"$f":"+Pivot!G96","v":""},{"$f":"+Pivot!F96","v":""},null,{"$f":"+Pivot!H96","v":""},null,{"$f":"+Pivot!I96","v":""}]
[{"$f":"+Pivot!G97","v":""},{"$f":"+Pivot!F97","v":""},null,{"$f":"+Pivot!H97","v":""},null,{"$f":"+Pivot!I97","v":""}]
[{"$f":"+Pivot!G98","v":""},{"$f":"+Pivot!F98","v":""},null,{"$f":"+Pivot!H98","v":""},null,{"$f":"+Pivot!I98","v":""}]
[{"$f":"+Pivot!G99","v":""},{"$f":"+Pivot!F99","v":""},null,{"$f":"+Pivot!H99","v":""},null,{"$f":"+Pivot!I99","v":""}]
[{"$f":"+Pivot!G100","v":""},{"$f":"+Pivot!F100","v":""},null,{"$f":"+Pivot!H100","v":""},null,{"$f":"+Pivot!I100","v":""}]
[{"$f":"+Pivot!G101","v":""},{"$f":"+Pivot!F101","v":""},null,{"$f":"+Pivot!H101","v":""},null,{"$f":"+Pivot!I101","v":""}]
[{"$f":"+Pivot!G102","v":""},{"$f":"+Pivot!F102","v":""},null,{"$f":"+Pivot!H102","v":""},null,{"$f":"+Pivot!I102","v":""}]
[{"$f":"+Pivot!G103","v":""},{"$f":"+Pivot!F103","v":""},null,{"$f":"+Pivot!H103","v":""},null,{"$f":"+Pivot!I103","v":""}]
[{"$f":"+Pivot!G104","v":""},{"$f":"+Pivot!F104","v":""},null,{"$f":"+Pivot!H104","v":""},null,{"$f":"+Pivot!I104","v":""}]
[{"$f":"+Pivot!G105","v":""},{"$f":"+Pivot!F105","v":""},null,{"$f":"+Pivot!H105","v":""},null,{"$f":"+Pivot!I105","v":""}]
[{"$f":"+Pivot!G106","v":""},{"$f":"+Pivot!F106","v":""},null,{"$f":"+Pivot!H106","v":""},null,{"$f":"+Pivot!I106","v":""}]
[{"$f":"+Pivot!G107","v":""},{"$f":"+Pivot!F107","v":""},null,{"$f":"+Pivot!H107","v":""},null,{"$f":"+Pivot!I107","v":""}]
[{"$f":"+Pivot!G108","v":""},{"$f":"+Pivot!F108","v":""},null,{"$f":"+Pivot!H108","v":""},null,{"$f":"+Pivot!I108","v":""}]
[{"$f":"+Pivot!G109","v":""},{"$f":"+Pivot!F109","v":""},null,{"$f":"+Pivot!H109","v":""},null,{"$f":"+Pivot!I109","v":""}]
[{"$f":"+Pivot!G110","v":""},{"$f":"+Pivot!F110","v":""},null,{"$f":"+Pivot!H110","v":""},null,{"$f":"+Pivot!I110","v":""}]
[{"$f":"+Pivot!G111","v":""},{"$f":"+Pivot!F111","v":""},null,{"$f":"+Pivot!H111","v":""},null,{"$f":"+Pivot!I111","v":""}]
[{"$f":"+Pivot!G112","v":""},{"$f":"+Pivot!F112","v":""},null,{"$f":"+Pivot!H112","v":""},null,{"$f":"+Pivot!I112","v":""}]
[{"$f":"+Pivot!G113","v":""},{"$f":"+Pivot!F113","v":""},null,{"$f":"+Pivot!H113","v":""},null,{"$f":"+Pivot!I113","v":""}]
[{"$f":"+Pivot!G114","v":""},{"$f":"+Pivot!F114","v":""},null,{"$f":"+Pivot!H114","v":""},null,{"$f":"+Pivot!I114","v":""}]
[{"$f":"+Pivot!G115","v":""},{"$f":"+Pivot!F115","v":""},null,{"$f":"+Pivot!H115","v":""},null,{"$f":"+Pivot!I115","v":""}]
[{"$f":"+Pivot!G116","v":""},{"$f":"+Pivot!F116","v":""},null,{"$f":"+Pivot!H116","v":""},null,{"$f":"+Pivot!I116","v":""}]
[{"$f":"+Pivot!G117","v":""},{"$f":"+Pivot!F117","v":""},null,{"$f":"+Pivot!H117","v":""},null,{"$f":"+Pivot!I117","v":""}]
[{"$f":"+Pivot!G118","v":""},{"$f":"+Pivot!F118","v":""},null,{"$f":"+Pivot!H118","v":""},null,{"$f":"+Pivot!I118","v":""}]
[{"$f":"+Pivot!G119","v":""},{"$f":"+Pivot!F119","v":""},null,{"$f":"+Pivot!H119","v":""},null,{"$f":"+Pivot!I119","v":""}]
[{"$f":"+Pivot!G120","v":""},{"$f":"+Pivot!F120","v":""},null,{"$f":"+Pivot!H120","v":""},null,{"$f":"+Pivot!I120","v":""}]
[{"$f":"+Pivot!G121","v":""},{"$f":"+Pivot!F121","v":""},null,{"$f":"+Pivot!H121","v":""},null,{"$f":"+Pivot!I121","v":""}]
[{"$f":"+Pivot!G122","v":""},{"$f":"+Pivot!F122","v":""},null,{"$f":"+Pivot!H122","v":""},null,{"$f":"+Pivot!I122","v":""}]
[{"$f":"+Pivot!G123","v":""},{"$f":"+Pivot!F123","v":""},null,{"$f":"+Pivot!H123","v":""},null,{"$f":"+Pivot!I123","v":""}]
[{"$f":"+Pivot!G124","v":""},{"$f":"+Pivot!F124","v":""},null,{"$f":"+Pivot!H124","v":""},null,{"$f":"+Pivot!I124","v":""}]
[{"$f":"+Pivot!G125","v":""},{"$f":"+Pivot!F125","v":""},null,{"$f":"+Pivot!H125","v":""},null,{"$f":"+Pivot!I125","v":""}]
[{"$f":"+Pivot!G126","v":""},{"$f":"+Pivot!F126","v":""},null,{"$f":"+Pivot!H126","v":""},null,{"$f":"+Pivot!I126","v":""}]
[{"$f":"+Pivot!G127","v":""},{"$f":"+Pivot!F127","v":""},null,{"$f":"+Pivot!H127","v":""},null,{"$f":"+Pivot!I127","v":""}]
[{"$f":"+Pivot!G128","v":""},{"$f":"+Pivot!F128","v":""},null,{"$f":"+Pivot!H128","v":""},null,{"$f":"+Pivot!I128","v":""}]
[{"$f":"+Pivot!G129","v":""},{"$f":"+Pivot!F129","v":""},null,{"$f":"+Pivot!H129","v":""},null,{"$f":"+Pivot!I129","v":""}]
[{"$f":"+Pivot!G130","v":""},{"$f":"+Pivot!F130","v":""},null,{"$f":"+Pivot!H130","v":""},null,{"$f":"+Pivot!I130","v":""}]
[{"$f":"+Pivot!G131","v":""},{"$f":"+Pivot!F131","v":""},null,{"$f":"+Pivot!H131","v":""},null,{"$f":"+Pivot!I131","v":""}]
[{"$f":"+Pivot!G132","v":""},{"$f":"+Pivot!F132","v":""},null,{"$f":"+Pivot!H132","v":""},null,{"$f":"+Pivot!I132","v":""}]
[{"$f":"+Pivot!G133","v":""},{"$f":"+Pivot!F133","v":""},null,{"$f":"+Pivot!H133","v":""},null,{"$f":"+Pivot!I133","v":""}]
[{"$f":"+Pivot!G134","v":""},{"$f":"+Pivot!F134","v":""},null,{"$f":"+Pivot!H134","v":""},null,{"$f":"+Pivot!I134","v":""}]
[{"$f":"+Pivot!G135","v":""},{"$f":"+Pivot!F135","v":""},null,{"$f":"+Pivot!H135","v":""},null,{"$f":"+Pivot!I135","v":""}]
[{"$f":"+Pivot!G136","v":""},{"$f":"+Pivot!F136","v":""},null,{"$f":"+Pivot!H136","v":""},null,{"$f":"+Pivot!I136","v":""}]
[{"$f":"+Pivot!G137","v":""},{"$f":"+Pivot!F137","v":""},null,{"$f":"+Pivot!H137","v":""},null,{"$f":"+Pivot!I137","v":""}]
[{"$f":"+Pivot!G138","v":""},{"$f":"+Pivot!F138","v":""},null,{"$f":"+Pivot!H138","v":""},null,{"$f":"+Pivot!I138","v":""}]
[{"$f":"+Pivot!G139","v":""},{"$f":"+Pivot!F139","v":""},null,{"$f":"+Pivot!H139","v":""},null,{"$f":"+Pivot!I139","v":""}]
[{"$f":"+Pivot!G140","v":""},{"$f":"+Pivot!F140","v":""},null,{"$f":"+Pivot!H140","v":""},null,{"$f":"+Pivot!I140","v":""}]
[{"$f":"+Pivot!G141","v":""},{"$f":"+Pivot!F141","v":""},null,{"$f":"+Pivot!H141","v":""},null,{"$f":"+Pivot!I141","v":""}]
[{"$f":"+Pivot!G142","v":""},{"$f":"+Pivot!F142","v":""},null,{"$f":"+Pivot!H142","v":""},null,{"$f":"+Pivot!I142","v":""}]
[{"$f":"+Pivot!G143","v":""},{"$f":"+Pivot!F143","v":""},null,{"$f":"+Pivot!H143","v":""},null,{"$f":"+Pivot!I143","v":""}]
[{"$f":"+Pivot!G144","v":""},{"$f":"+Pivot!F144","v":""},null,{"$f":"+Pivot!H144","v":""},null,{"$f":"+Pivot!I144","v":""}]
[{"$f":"+Pivot!G145","v":""},{"$f":"+Pivot!F145","v":""},null,{"$f":"+Pivot!H145","v":""},null,{"$f":"+Pivot!I145","v":""}]
[{"$f":"+Pivot!G146","v":""},{"$f":"+Pivot!F146","v":""},null,{"$f":"+Pivot!H146","v":""},null,{"$f":"+Pivot!I146","v":""}]
[{"$f":"+Pivot!G147","v":""},{"$f":"+Pivot!F147","v":""},null,{"$f":"+Pivot!H147","v":""},null,{"$f":"+Pivot!I147","v":""}]
[{"$f":"+Pivot!G148","v":""},{"$f":"+Pivot!F148","v":""},null,{"$f":"+Pivot!H148","v":""},null,{"$f":"+Pivot!I148","v":""}]
[{"$f":"+Pivot!G149","v":""},{"$f":"+Pivot!F149","v":""},null,{"$f":"+Pivot!H149","v":""},null,{"$f":"+Pivot!I149","v":""}]
[{"$f":"+Pivot!G150","v":""},{"$f":"+Pivot!F150","v":""},null,{"$f":"+Pivot!H150","v":""},null,{"$f":"+Pivot!I150","v":""}]
[{"$f":"+Pivot!G151","v":""},{"$f":"+Pivot!F151","v":""},null,{"$f":"+Pivot!H151","v":""},null,{"$f":"+Pivot!I151","v":""}]
[{"$f":"+Pivot!G152","v":""},{"$f":"+Pivot!F152","v":""},null,{"$f":"+Pivot!H152","v":""},null,{"$f":"+Pivot!I152","v":""}]
[{"$f":"+Pivot!G153","v":""},{"$f":"+Pivot!F153","v":""},null,{"$f":"+Pivot!H153","v":""},null,{"$f":"+Pivot!I153","v":""}]
[{"$f":"+Pivot!G154","v":""},{"$f":"+Pivot!F154","v":""},null,{"$f":"+Pivot!H154","v":""},null,{"$f":"+Pivot!I154","v":""}]
[{"$f":"+Pivot!G155","v":""},{"$f":"+Pivot!F155","v":""},null,{"$f":"+Pivot!H155","v":""},null,{"$f":"+Pivot!I155","v":""}]
[{"$f":"+Pivot!G156","v":""},{"$f":"+Pivot!F156","v":""},null,{"$f":"+Pivot!H156","v":""},null,{"$f":"+Pivot!I156","v":""}]
[{"$f":"+Pivot!G157","v":""},{"$f":"+Pivot!F157","v":""},null,{"$f":"+Pivot!H157","v":""},null,{"$f":"+Pivot!I157","v":""}]
[{"$f":"+Pivot!G158","v":""},{"$f":"+Pivot!F158","v":""},null,{"$f":"+Pivot!H158","v":""},null,{"$f":"+Pivot!I158","v":""}]
[{"$f":"+Pivot!G159","v":""},{"$f":"+Pivot!F159","v":""},null,{"$f":"+Pivot!H159","v":""},null,{"$f":"+Pivot!I159","v":""}]
[{"$f":"+Pivot!G160","v":""},{"$f":"+Pivot!F160","v":""},null,{"$f":"+Pivot!H160","v":""},null,{"$f":"+Pivot!I160","v":""}]
[{"$f":"+Pivot!G161","v":""},{"$f":"+Pivot!F161","v":""},null,{"$f":"+Pivot!H161","v":""},null,{"$f":"+Pivot!I161","v":""}]
[{"$f":"+Pivot!G162","v":""},{"$f":"+Pivot!F162","v":""},null,{"$f":"+Pivot!H162","v":""},null,{"$f":"+Pivot!I162","v":""}]
[{"$f":"+Pivot!G163","v":""},{"$f":"+Pivot!F163","v":""},null,{"$f":"+Pivot!H163","v":""},null,{"$f":"+Pivot!I163","v":""}]
[{"$f":"+Pivot!G164","v":""},{"$f":"+Pivot!F164","v":""},null,{"$f":"+Pivot!H164","v":""},null,{"$f":"+Pivot!I164","v":""}]
[{"$f":"+Pivot!G165","v":""},{"$f":"+Pivot!F165","v":""},null,{"$f":"+Pivot!H165","v":""},null,{"$f":"+Pivot!I165","v":""}]
[{"$f":"+Pivot!G166","v":""},{"$f":"+Pivot!F166","v":""},null,{"$f":"+Pivot!H166","v":""},null,{"$f":"+Pivot!I166","v":""}]
[{"$f":"+Pivot!G167","v":""},{"$f":"+Pivot!F167","v":""},null,{"$f":"+Pivot!H167","v":""},null,{"$f":"+Pivot!I167","v":""}]
[{"$f":"+Pivot!G168","v":""},{"$f":"+Pivot!F168","v":""},null,{"$f":"+Pivot!H168","v":""},null,{"$f":"+Pivot!I168","v":""}]
[{"$f":"+Pivot!G169","v":""},{"$f":"+Pivot!F169","v":""},null,{"$f":"+Pivot!H169","v":""},null,{"$f":"+Pivot!I169","v":""}]
[{"$f":"+Pivot!G170","v":""},{"$f":"+Pivot!F170","v":""},null,{"$f":"+Pivot!H170","v":""},null,{"$f":"+Pivot!I170","v":""}]
[{"$f":"+Pivot!G171","v":""},{"$f":"+Pivot!F171","v":""},null,{"$f":"+Pivot!H171","v":""},null,{"$f":"+Pivot!I171","v":""}]
[{"$f":"+Pivot!G172","v":""},{"$f":"+Pivot!F172","v":""},null,{"$f":"+Pivot!H172","v":""},null,{"$f":"+Pivot!I172","v":""}]
[{"$f":"+Pivot!G173","v":""},{"$f":"+Pivot!F173","v":""},null,{"$f":"+Pivot!H173","v":""},null,{"$f":"+Pivot!I173","v":""}]
[{"$f":"+Pivot!G174","v":""},{"$f":"+Pivot!F174","v":""},null,{"$f":"+Pivot!H174","v":""},null,{"$f":"+Pivot!I174","v":""}]
[{"$f":"+Pivot!G175","v":""},{"$f":"+Pivot!F175","v":""},null,{"$f":"+Pivot!H175","v":""},null,{"$f":"+Pivot!I175","v":""}]
[{"$f":"+Pivot!G176","v":""},{"$f":"+Pivot!F176","v":""},null,{"$f":"+Pivot!H176","v":""},null,{"$f":"+Pivot!I176","v":""}]
[{"$f":"+Pivot!G177","v":""},{"$f":"+Pivot!F177","v":""},null,{"$f":"+Pivot!H177","v":""},null,{"$f":"+Pivot!I177","v":""}]
[{"$f":"+Pivot!G178","v":""},{"$f":"+Pivot!F178","v":""},null,{"$f":"+Pivot!H178","v":""},null,{"$f":"+Pivot!I178","v":""}]
[{"$f":"+Pivot!G179","v":""},{"$f":"+Pivot!F179","v":""},null,{"$f":"+Pivot!H179","v":""},null,{"$f":"+Pivot!I179","v":""}]
[{"$f":"+Pivot!G180","v":""},{"$f":"+Pivot!F180","v":""},null,{"$f":"+Pivot!H180","v":""},null,{"$f":"+Pivot!I180","v":""}]
[{"$f":"+Pivot!G181","v":""},{"$f":"+Pivot!F181","v":""},null,{"$f":"+Pivot!H181","v":""},null,{"$f":"+Pivot!I181","v":""}]
[{"$f":"+Pivot!G182","v":""},{"$f":"+Pivot!F182","v":""},null,{"$f":"+Pivot!H182","v":""},null,{"$f":"+Pivot!I182","v":""}]
[{"$f":"+Pivot!G183","v":""},{"$f":"+Pivot!F183","v":""},null,{"$f":"+Pivot!H183","v":""},null,{"$f":"+Pivot!I183","v":""}]
[{"$f":"+Pivot!G184","v":""},{"$f":"+Pivot!F184","v":""},null,{"$f":"+Pivot!H184","v":""},null,{"$f":"+Pivot!I184","v":""}]
[{"$f":"+Pivot!G185","v":""},{"$f":"+Pivot!F185","v":""},null,{"$f":"+Pivot!H185","v":""},null,{"$f":"+Pivot!I185","v":""}]
[{"$f":"+Pivot!G186","v":""},{"$f":"+Pivot!F186","v":""},null,{"$f":"+Pivot!H186","v":""},null,{"$f":"+Pivot!I186","v":""}]
[{"$f":"+Pivot!G187","v":""},{"$f":"+Pivot!F187","v":""},null,{"$f":"+Pivot!H187","v":""},null,{"$f":"+Pivot!I187","v":""}]
[{"$f":"+Pivot!G188","v":""},{"$f":"+Pivot!F188","v":""},null,{"$f":"+Pivot!H188","v":""},null,{"$f":"+Pivot!I188","v":""}]
[{"$f":"+Pivot!G189","v":""},{"$f":"+Pivot!F189","v":""},null,{"$f":"+Pivot!H189","v":""},null,{"$f":"+Pivot!I189","v":""}]
[{"$f":"+Pivot!G190","v":""},{"$f":"+Pivot!F190","v":""},null,{"$f":"+Pivot!H190","v":""},null,{"$f":"+Pivot!I190","v":""}]
[{"$f":"+Pivot!G191","v":""},{"$f":"+Pivot!F191","v":""},null,{"$f":"+Pivot!H191","v":""},null,{"$f":"+Pivot!I191","v":""}]
[{"$f":"+Pivot!G192","v":""},{"$f":"+Pivot!F192","v":""},null,{"$f":"+Pivot!H192","v":""},null,{"$f":"+Pivot!I192","v":""}]
[{"$f":"+Pivot!G193","v":""},{"$f":"+Pivot!F193","v":""},null,{"$f":"+Pivot!H193","v":""},null,{"$f":"+Pivot!I193","v":""}]
[{"$f":"+Pivot!G194","v":""},{"$f":"+Pivot!F194","v":""},null,{"$f":"+Pivot!H194","v":""},null,{"$f":"+Pivot!I194","v":""}]
[{"$f":"+Pivot!G195","v":""},{"$f":"+Pivot!F195","v":""},null,{"$f":"+Pivot!H195","v":""},null,{"$f":"+Pivot!I195","v":""}]
[{"$f":"+Pivot!G196","v":""},{"$f":"+Pivot!F196","v":""},null,{"$f":"+Pivot!H196","v":""},null,{"$f":"+Pivot!I196","v":""}]
[{"$f":"+Pivot!G197","v":""},{"$f":"+Pivot!F197","v":""},null,{"$f":"+Pivot!H197","v":""},null,{"$f":"+Pivot!I197","v":""}]
[{"$f":"+Pivot!G198","v":""},{"$f":"+Pivot!F198","v":""},null,{"$f":"+Pivot!H198","v":""},null,{"$f":"+Pivot!I198","v":""}]
[{"$f":"+Pivot!G199","v":""},{"$f":"+Pivot!F199","v":""},null,{"$f":"+Pivot!H199","v":""},null,{"$f":"+Pivot!I199","v":""}]
[{"$f":"+Pivot!G200","v":""},{"$f":"+Pivot!F200","v":""},null,{"$f":"+Pivot!H200","v":""},null,{"$f":"+Pivot!I200","v":""}]
[{"$f":"+Pivot!G201","v":""},{"$f":"+Pivot!F201","v":""},null,{"$f":"+Pivot!H201","v":""},null,{"$f":"+Pivot!I201","v":""}]
[{"$f":"+Pivot!G202","v":""},{"$f":"+Pivot!F202","v":""},null,{"$f":"+Pivot!H202","v":""},null,{"$f":"+Pivot!I202","v":""}]
[{"$f":"+Pivot!G203","v":""},{"$f":"+Pivot!F203","v":""},null,{"$f":"+Pivot!H203","v":""},null,{"$f":"+Pivot!I203","v":""}]
[{"$f":"+Pivot!G204","v":""},{"$f":"+Pivot!F204","v":""},null,{"$f":"+Pivot!H204","v":""},null,{"$f":"+Pivot!I204","v":""}]
[{"$f":"+Pivot!G205","v":""},{"$f":"+Pivot!F205","v":""},null,{"$f":"+Pivot!H205","v":""},null,{"$f":"+Pivot!I205","v":""}]
[{"$f":"+Pivot!G206","v":""},{"$f":"+Pivot!F206","v":""},null,{"$f":"+Pivot!H206","v":""},null,{"$f":"+Pivot!I206","v":""}]
[{"$f":"+Pivot!G207","v":""},{"$f":"+Pivot!F207","v":""},null,{"$f":"+Pivot!H207","v":""},null,{"$f":"+Pivot!I207","v":""}]
[{"$f":"+Pivot!G208","v":""},{"$f":"+Pivot!F208","v":""},null,{"$f":"+Pivot!H208","v":""},null,{"$f":"+Pivot!I208","v":""}]
[{"$f":"+Pivot!G209","v":""},{"$f":"+Pivot!F209","v":""},null,{"$f":"+Pivot!H209","v":""},null,{"$f":"+Pivot!I209","v":""}]
[{"$f":"+Pivot!G210","v":""},{"$f":"+Pivot!F210","v":""},null,{"$f":"+Pivot!H210","v":""},null,{"$f":"+Pivot!I210","v":""}]
[{"$f":"+Pivot!G211","v":""},{"$f":"+Pivot!F211","v":""},null,{"$f":"+Pivot!H211","v":""},null,{"$f":"+Pivot!I211","v":""}]
[{"$f":"+Pivot!G212","v":""},{"$f":"+Pivot!F212","v":""},null,{"$f":"+Pivot!H212","v":""},null,{"$f":"+Pivot!I212","v":""}]
[{"$f":"+Pivot!G213","v":""},{"$f":"+Pivot!F213","v":""},null,{"$f":"+Pivot!H213","v":""},null,{"$f":"+Pivot!I213","v":""}]
[{"$f":"+Pivot!G214","v":""},{"$f":"+Pivot!F214","v":""},null,{"$f":"+Pivot!H214","v":""},null,{"$f":"+Pivot!I214","v":""}]
[{"$f":"+Pivot!G215","v":""},{"$f":"+Pivot!F215","v":""},null,{"$f":"+Pivot!H215","v":""},null,{"$f":"+Pivot!I215","v":""}]
[{"$f":"+Pivot!G216","v":""},{"$f":"+Pivot!F216","v":""},null,{"$f":"+Pivot!H216","v":""},null,{"$f":"+Pivot!I216","v":""}]
[{"$f":"+Pivot!G217","v":""},{"$f":"+Pivot!F217","v":""},null,{"$f":"+Pivot!H217","v":""},null,{"$f":"+Pivot!I217","v":""}]
[{"$f":"+Pivot!G218","v":""},{"$f":"+Pivot!F218","v":""},null,{"$f":"+Pivot!H218","v":""},null,{"$f":"+Pivot!I218","v":""}]
[{"$f":"+Pivot!G219","v":""},{"$f":"+Pivot!F219","v":""},null,{"$f":"+Pivot!H219","v":""},null,{"$f":"+Pivot!I219","v":""}]
[{"$f":"+Pivot!G220","v":""},{"$f":"+Pivot!F220","v":""},null,{"$f":"+Pivot!H220","v":""},null,{"$f":"+Pivot!I220","v":""}]
[{"$f":"+Pivot!G221","v":""},{"$f":"+Pivot!F221","v":""},null,{"$f":"+Pivot!H221","v":""},null,{"$f":"+Pivot!I221","v":""}]
[{"$f":"+Pivot!G222","v":""},{"$f":"+Pivot!F222","v":""},null,{"$f":"+Pivot!H222","v":""},null,{"$f":"+Pivot!I222","v":""}]
[{"$f":"+Pivot!G223","v":""},{"$f":"+Pivot!F223","v":""},null,{"$f":"+Pivot!H223","v":""},null,{"$f":"+Pivot!I223","v":""}]
[{"$f":"+Pivot!G224","v":""},{"$f":"+Pivot!F224","v":""},null,{"$f":"+Pivot!H224","v":""},null,{"$f":"+Pivot!I224","v":""}]

{"sheet":"Pivot","index":7,"n_rows":224,"n_cols":9,"rows_kept":224,"cut":false,"hidden":false,"merged":[[0,0,14,8]]}
["DO NOT UPDATE"]
[]
[]
[]
[]
[]
[]
[]
[]
[]
[]
[]
[]
[]
[]
[]
[]
[]
[]
["Type","(All)"]
[]
["Sum of Amount"]
["Account ","Chart","Object Code\n (The Object code being used)","Total"]
["","UC",null,0,null,{"$f":"IF(A24>=0.01,A24,\"\")","v":""},{"$f":"IF(F24=\"\",\"\",B24)","v":""},{"$f":"IF(C24>=0.01,C24,\"\")","v":""},""]
[null,null,null,null,null,{"$f":"IF(A25>=0.01,A25,\"\")","v":""},{"$f":"IF(F25=\"\",\"\",B25)","v":""},"",""]
[null,null,null,null,null,{"$f":"IF(A26>=0.01,A26,\"\")","v":""},"","",""]
[null,null,null,null,null,"","","",""]
[null,null,null,null,null,"","","",""]
[null,null,null,null,null,"","","",""]
[null,null,null,null,null,"","","",""]
[null,null,null,null,null,"","","",""]
[null,null,null,null,null,"","","",""]
[null,null,null,null,null,"","","",""]
[null,null,null,null,null,"","","",""]
[null,null,null,null,null,"","","",""]
[null,null,null,null,null,"","","",""]
[null,null,null,null,null,"","","",""]
[null,null,null,null,null,"","","",""]
[null,null,null,null,null,"","","",""]
[null,null,null,null,null,"","","",""]
[null,null,null,null,null,"","","",""]
[null,null,null,null,null,"","","",""]
[null,null,null,null,null,"","","",""]
[null,null,null,null,null,"","","",""]
[null,null,null,null,null,"","","",""]
[null,null,null,null,null,"","","",""]
[null,null,null,null,null,"","","",""]
[null,null,null,null,null,"","","",""]
[null,null,null,null,null,"","","",""]
[null,null,null,null,null,"","","",""]
[null,null,null,null,null,"","","",""]
[null,null,null,null,null,"","","",""]
[null,null,null,null,null,"","","",""]
[null,null,null,null,null,"","","",""]
[null,null,null,null,null,"","","",""]
[null,null,null,null,null,"","","",""]
[null,null,null,null,null,"","","",""]
[null,null,null,null,null,"","","",""]
[null,null,null,null,null,"","","",""]
[null,null,null,null,null,"","","",""]
[null,null,null,null,null,"","","",""]
[null,null,null,null,null,"","","",""]
[null,null,null,null,null,"","","",""]
[null,null,null,null,null,"","","",""]
[null,null,null,null,null,"","","",""]
[null,null,null,null,null,"","","",""]
[null,null,null,null,null,"","","",""]
[null,null,null,null,null,"","","",""]
[null,null,null,null,null,"","","",""]
[null,null,null,null,null,"","","",""]
[null,null,null,null,null,"","","",""]
[null,null,null,null,null,"","","",""]
[null,null,null,null,null,"","","",""]
[null,null,null,null,null,"","","",""]
[null,null,null,null,null,"","","",""]
[null,null,null,null,null,"","","",""]
[null,null,null,null,null,"","","",""]
[null,null,null,null,null,"","","",""]
[null,null,null,null,null,"","","",""]
[null,null,null,null,null,"","","",""]
[null,null,null,null,null,"","","",""]
[null,null,null,null,null,"","","",""]
[null,null,null,null,null,"","","",""]
[null,null,null,null,null,"","","",""]
[null,null,null,null,null,"","","",""]
[null,null,null,null,null,"","","",""]
[null,null,null,null,null,"","","",""]
[null,null,null,null,null,"","","",""]
[null,null,null,null,null,"",{"$f":"IF(F89=\"\",\"\",B89)","v":""},"",""]
[null,null,null,null,null,{"$f":"IF(A90>=0.01,A90,\"\")","v":""},"","",""]
[null,null,null,null,null,"","","",""]
[null,null,null,null,null,"","","",""]
[null,null,null,null,null,"","","",""]
[null,null,null,null,null,"","","",""]
[null,null,null,null,null,"","","",""]
[null,null,null,null,null,"","","",""]
[null,null,null,null,null,"","","",""]
[null,null,null,null,null,"","","",""]
[null,null,null,null,null,"","","",""]
[null,null,null,null,null,"","","",""]
[null,null,null,null,null,"","","",""]
[null,null,null,null,null,"","","",""]
[null,null,null,null,null,"","","",""]
[null,null,null,null,null,"","","",""]
[null,null,null,null,null,"","","",""]
[null,null,null,null,null,"","","",""]
[null,null,null,null,null,"","","",""]
[null,null,null,null,null,"","","",""]
[null,null,null,null,null,"","","",""]
[null,null,null,null,null,"","","",""]
[null,null,null,null,null,"","","",""]
[null,null,null,null,null,"","","",""]
[null,null,null,null,null,"","","",""]
[null,null,null,null,null,"","","",""]
[null,null,null,null,null,"","","",""]
[null,null,null,null,null,"","","",""]
[null,null,null,null,null,"","","",""]
[null,null,null,null,null,"","","",""]
[null,null,null,null,null,"","","",""]
[null,null,null,null,null,"","","",""]
[null,null,null,null,null,"","","",""]
[null,null,null,null,null,"","","",""]
[null,null,null,null,null,"","","",""]
[null,null,null,null,null,"","","",""]
[null,null,null,null,null,"","","",""]
[null,null,null,null,null,"","","",""]
[null,null,null,null,null,"","","",""]
[null,null,null,null,null,"","","",""]
[null,null,null,null,null,"","","",""]
[null,null,null,null,null,"","","",""]
[null,null,null,null,null,"","","",""]
[null,null,null,null,null,"","","",""]
[null,null,null,null,null,"","","",""]
[null,null,null,null,null,"","","",""]
[null,null,null,null,null,"","","",""]
[null,null,null,null,null,"","","",""]
[null,null,null,null,null,"","","",""]
[null,null,null,null,null,"","","",""]
[null,null,null,null,null,"","","",""]
[null,null,null,null,null,"","","",""]
[null,null,null,null,null,"","","",""]
[null,null,null,null,null,"","","",""]
[null,null,null,null,null,"","","",""]
[null,null,null,null,null,"","","",""]
[null,null,null,null,null,"","","",""]
[null,null,null,null,null,"","","",""]
[null,null,null,null,null,"","","",""]
[null,null,null,null,null,"","","",""]
[null,null,null,null,null,"","","",""]
[null,null,null,null,null,"","","",""]
[null,null,null,null,null,"","","",""]
[null,null,null,null,null,"","","",""]
[null,null,null,null,null,"",{"$f":"IF(F153=\"\",\"\",B153)","v":""},"",""]
[null,null,null,null,null,{"$f":"IF(A154>=0.01,A154,\"\")","v":""},"","",""]
[null,null,null,null,null,"","","",""]
[null,null,null,null,null,"","","",""]
[null,null,null,null,null,"","","",""]
[null,null,null,null,null,"","","",""]
[null,null,null,null,null,"","","",""]
[null,null,null,null,null,"","","",""]
[null,null,null,null,null,"","","",""]
[null,null,null,null,null,"","","",""]
[null,null,null,null,null,"","","",""]
[null,null,null,null,null,"","","",""]
[null,null,null,null,null,"","","",""]
[null,null,null,null,null,"","","",""]
[null,null,null,null,null,"","","",""]
[null,null,null,null,null,"","","",""]
[null,null,null,null,null,"","","",""]
[null,null,null,null,null,"","","",""]
[null,null,null,null,null,"","","",""]
[null,null,null,null,null,"","","",""]
[null,null,null,null,null,"","","",""]
[null,null,null,null,null,"","","",""]
[null,null,null,null,null,"","","",""]
[null,null,null,null,null,"","","",""]
[null,null,null,null,null,"","","",""]
[null,null,null,null,null,"","","",""]
[null,null,null,null,null,"","","",""]
[null,null,null,null,null,"","","",""]
[null,null,null,null,null,"","","",""]
[null,null,null,null,null,"","","",""]
[null,null,null,null,null,"","","",""]
[null,null,null,null,null,"","","",""]
[null,null,null,null,null,"","","",""]
[null,null,null,null,null,"","","",""]
[null,null,null,null,null,"","","",""]
[null,null,null,null,null,"","","",""]
[null,null,null,null,null,"","","",""]
[null,null,null,null,null,"","","",""]
[null,null,null,null,null,"","","",""]
[null,null,null,null,null,"","","",""]
[null,null,null,null,null,"","","",""]
[null,null,null,null,null,"","","",""]
[null,null,null,null,null,"","","",""]
[null,null,null,null,null,"","","",""]
[null,null,null,null,null,"","","",""]
[null,null,null,null,null,"","","",""]
[null,null,null,null,null,"","","",""]
[null,null,null,null,null,"","","",""]
[null,null,null,null,null,"","","",""]
[null,null,null,null,null,"","","",""]
[null,null,null,null,null,"","","",""]
[null,null,null,null,null,"","","",""]
[null,null,null,null,null,"","","",""]
[null,null,null,null,null,"","","",""]
[null,null,null,null,null,"","","",""]
[null,null,null,null,null,"","","",""]
[null,null,null,null,null,"","","",""]
[null,null,null,null,null,"","","",""]
[null,null,null,null,null,"","","",""]
[null,null,null,null,null,"","","",""]
[null,null,null,null,null,"","","",""]
[null,null,null,null,null,"","","",""]
[null,null,null,null,null,"","","",""]
[null,null,null,null,null,"","","",""]
[null,null,null,null,null,"",{"$f":"IF(F217=\"\",\"\",B217)","v":""},"",""]
[null,null,null,null,null,{"$f":"IF(A218>=0.01,A218,\"\")","v":""},"","",""]
[null,null,null,null,null,"","","",""]
[null,null,null,null,null,"","","",""]
[null,null,null,null,null,"","","",""]
[null,null,null,null,null,"","","",""]
[null,null,null,null,null,"","","",""]
[null,null,null,null,null,"","","",""]

{"sheet":"Object Codes","index":8,"n_rows":37,"n_cols":5,"rows_kept":37,"cut":false,"hidden":true,"merged":[[26,1,26,4],[33,1,33,4]]}
[]
[]
[]
[]
[null,"3200 - Do not use for 2-Ledger accounts.  Inter-Department Transfers"]
[null,"3201 - Do not use for 2-Ledger accounts.  Accounts outside of the School/College/Unit"]
[null,"3206 - Permanently between 2-Ledger accounts within the same School/College/Unit."]
[null,"3207 - Permanently between 2-Ledger accounts outside the School/College/Unit."]
[null,"3208 - One-time between 2-Ledger accounts within the same School/College/Unit."]
[null,"3209 - One-time between 2-Ledger accounts outside the School/College/Unit."]
[null,"3210 - Used for mandatory transfers to Accounting only."]
[]
[]
[]
[]
[]
[null,"3300 - Do not use for 2-Ledger accounts.  Inter-Department Transfers"]
[null,"3301 - Do not use for 2-Ledger accounts.  Accounts outside of the School/College/Unit"]
[null,"3306 - Permanently between 2-Ledger accounts within the same School/College/Unit."]
[null,"3307 - Permanently between 2-Ledger accounts outside the School/College/Unit."]
[null,"3308 - One-time between 2-Ledger accounts within the same School/College/Unit."]
[null,"3309 - One-time between 2-Ledger accounts outside the School/College/Unit."]
[null,"3310 - Used for mandatory transfers to Accounting only."]
[]
[]
[]
[null,"Tie to Budget Construction - TRANSFERS IN ONLY"]
[null,"3201 - Do not use for 2-Ledger accounts.  Accounts outside of the School/College/Unit",3201,{"$f":"SUMIFS('Transfer In'!F$10:F$109,'Transfer In'!C$10:C$109,B28)","v":0},{"$f":"IFERROR(D28*1,\"-\")","v":0}]
[null,"3207 - Permanently between 2-Ledger accounts outside the School/College/Unit.",3207,{"$f":"SUMIFS('Transfer In'!F$10:F$109,'Transfer In'!C$10:C$109,B29)","v":0},0]
[null,"3209 - One-time between 2-Ledger accounts outside the School/College/Unit.",3209,{"$f":"SUMIFS('Transfer In'!F$10:F$109,'Transfer In'!C$10:C$109,B30)","v":0},0]
[null,"3210 - Used for mandatory transfers to Accounting only.",3210,{"$f":"SUMIFS('Transfer In'!F$10:F$109,'Transfer In'!C$10:C$109,B31)","v":0},0]
[]
[]
[null,"Tie to Budget Construction - TRANSFERS IN ONLY"]
[null,"3301 - Do not use for 2-Ledger accounts.  Accounts outside of the School/College/Unit",3201,{"$f":"SUMIFS('Transfer Out'!F$10:F$209,'Transfer Out'!C$10:C$209,B35)","v":0},{"$f":"IFERROR(D35*1,\"-\")","v":0}]
[null,"3307 - Permanently between 2-Ledger accounts outside the School/College/Unit.",3207,{"$f":"SUMIFS('Transfer Out'!F$10:F$209,'Transfer Out'!C$10:C$209,B36)","v":0},0]
[null,"3309 - One-time between 2-Ledger accounts outside the School/College/Unit.",3209,{"$f":"SUMIFS('Transfer Out'!F$10:F$209,'Transfer Out'!C$10:C$209,B37)","v":0},0]